BEGIN:VCALENDAR
VERSION:2.0
PRODID:-//Integrative Gestaltpädagogik - ECPv6.15.17.1//NONSGML v1.0//EN
CALSCALE:GREGORIAN
METHOD:PUBLISH
X-WR-CALNAME:Integrative Gestaltpädagogik
X-ORIGINAL-URL:https://igb-bayern.de
X-WR-CALDESC:Veranstaltungen für Integrative Gestaltpädagogik
REFRESH-INTERVAL;VALUE=DURATION:PT1H
X-Robots-Tag:noindex
X-PUBLISHED-TTL:PT1H
BEGIN:VTIMEZONE
TZID:Europe/Berlin
BEGIN:DAYLIGHT
TZOFFSETFROM:+0100
TZOFFSETTO:+0200
TZNAME:CEST
DTSTART:20240331T010000
END:DAYLIGHT
BEGIN:STANDARD
TZOFFSETFROM:+0200
TZOFFSETTO:+0100
TZNAME:CET
DTSTART:20241027T010000
END:STANDARD
BEGIN:DAYLIGHT
TZOFFSETFROM:+0100
TZOFFSETTO:+0200
TZNAME:CEST
DTSTART:20250330T010000
END:DAYLIGHT
BEGIN:STANDARD
TZOFFSETFROM:+0200
TZOFFSETTO:+0100
TZNAME:CET
DTSTART:20251026T010000
END:STANDARD
BEGIN:DAYLIGHT
TZOFFSETFROM:+0100
TZOFFSETTO:+0200
TZNAME:CEST
DTSTART:20260329T010000
END:DAYLIGHT
BEGIN:STANDARD
TZOFFSETFROM:+0200
TZOFFSETTO:+0100
TZNAME:CET
DTSTART:20261025T010000
END:STANDARD
END:VTIMEZONE
BEGIN:VEVENT
DTSTART;TZID=Europe/Berlin:20250113T000000
DTEND;TZID=Europe/Berlin:20250117T000000
DTSTAMP:20260426T003617
CREATED:20231023T151046Z
LAST-MODIFIED:20240916T065640Z
UID:743-1736726400-1737072000@igb-bayern.de
SUMMARY:Bibel getanzt
DESCRIPTION:Bibel getanzt\n\n\nKontakt:\nHaus Werdenfels\, Waldweg 15 93152 Nittendorf Tel: 09404/9502-0 Mail: Anmeldung@Haus-Werdenfels.de\nKursinhalte:  \nWerdenfelser Seminar \nMo.\, 13.01.- Fr.\, 17.01. 2025 \nBibel getanzt ist ein Weg\, \n\nder von einem biblischen Text ausgeht\,\nder durch Bewegung und eine wache Körperpräsenz in die Begegnung mit Gott führt\,\nauf dem ich Schritt für Schritt erlebe\, dass ich bin.\n\nTanz und Gebärde werden heute als spirituelle Wege wieder neu entdeckt. Die Gebärde als Urform der Sprache ist so alt wie die Menschheit\, das gleiche gilt für den Tanz. \nFür viele Menschen heute wird der Tanz mit seinem Symbolerleben zum Tor für eine tiefere Gottesbeziehung. \nTanzend wenden wir uns dem Geheimnis der Hl. Schrift zu. Wir entdecken dabei\, was ihre Botschaft für die Einzelnen ganz persönlich ist. \nTänze entstanden und entstehen aus Liebe zum Leben. Sie öffnen den Menschen für das Leben und somit für Gott! Wenn wir „die Bibel tanzen“ nähern wir uns dem Inhalt der Hl. Schrift durch Gebärden und Tanzschritte. \nWie das geschieht wollen wir in diesem Seminar erfahren\, reflektieren und üben: \n\nam Vormittag:\n\nEine Schriftstelle wird ganzheitlich erschlossen und ertanzt. In Kreistänzen\, Gebärdengebeten und gestaltpädagogischen Elementen wird Gottes Wort ganz persönlich erfahrbar und erlebbar. \n\nam Nachmittag: Wir reflektieren das Erlebte und werden es methodisch-didaktisch erschließen. Wir fragen uns: Welche existentielle Erfahrung\, welches Lebensgefühl wird im biblischen Text beschrieben? Wie kann dies im Tanz ausgedrückt werden?\n\nIm Lauf der Woche können auch die Teilnehmer*innen Tänze anleiten und so üben. \n\nam Abend: Der Tag schließt mit einem getanzten Abendlob.\n\nLeitung: Michaela Pfaffenbichler\, Tanzleiterin „Bibel getanzt“ und Sr. Magdalena Morgenstern\, Werdenfels\, Gestaltpädagogin (IGB) \nKurs: 250\,-Euro plus Pension \nOrt:\nHaus Werdenfels\, Waldweg 15\, D-93152 Nittendorf \nWeitere Informationen:\nAnrechenbar für Mitglieder des IGB mit 20 Vertiefungsstunden\, die als Nachweis der\nReflexion gestaltpädagogischer Praxis gelten.
URL:https://igb-bayern.de/kurs/bibel-tanzt/
LOCATION:Haus Werdenfels\, Waldweg 15\, Nittendorf\, 93152\, Deutschland
CATEGORIES:Baustein A,Seminare
ORGANIZER;CN="Haus Werdenfels":MAILTO:libon@Haus-Werdenfels.de
END:VEVENT
BEGIN:VEVENT
DTSTART;TZID=Europe/Berlin:20250115T080000
DTEND;TZID=Europe/Berlin:20250115T170000
DTSTAMP:20260426T003617
CREATED:20241216T073603Z
LAST-MODIFIED:20241216T163538Z
UID:1723-1736928000-1736960400@igb-bayern.de
SUMMARY:Gruppendynamikkurs Anm.: 15.01.2025
DESCRIPTION:Das Seminar findet in Kooperation mit dem IGBW statt. \nGruppendynamik\nFühren und Steuern von Gruppen\nDas Gelingen von gestaltpädagogischen oder\ngestaltpädagogisch beraterischen Interventionen\nhängt stark von dem Klima und damit von\nder jeweiligen sozialen Dynamik in der Gruppe\nab. Diese günstig zu beeinflussen und Gruppen\nso zu entwickeln\, dass Vertrauen und\nKreativität für die Zusammenarbeit prägend\nsind\, ist daher eine zentrale Kompetenz für\nGestaltpädagoginnen und -pädagogen.\nIn diesem Weiterbildungsmodul soll genau\ndiese Kompetenz trainiert und der professionelle\nHandlungsspielraum anhand von gemeinsamen\nErfahrungen vor Ort\, von Feedback\,\nReflexion und Experimentieren erweitert\nwerden. Das aktuelle Thema „psychologische\nSicherheit“ wird nach dieser Erfahrung mit\nLeben gefüllt und die methodischen Voraussetzungen\ndafür verfügbar sein.\nAll diejenigen\, die in Organisationen Verantwortung\ntragen und in Gremien\, Arbeits- und\nProjektgruppen mitwirken\, werden zusätzlich\nwertvolle Impulse für ihre leitenden oder mitgestaltenden\nRollen mitnehmen.\nDas Seminar ist im IGBW Pflichtmodul für\nBaustein B und kann dafür mit 32 Stunden\nangerechnet werden.\nDas Seminar kann nach den Richtlinien des\nIGB mit 32 Stunden für Baustein C des Curriculums\nangerechnet werden.\nDer Kurs ist offen für Mitglieder des IGBW\,\ndes IGB und der ARGE Schwestervereine\,\nfür Nichtmitglieder auf Anfrage. \nFlyer \nANMELDUNG\nbitte schriftlich\, mit ausgefülltem Anmeldeabschnitt des\nFlyers an das\nInstitut für Gestaltpädagogik\nin Erziehung\, Seelsorge und Beratung\nBaden-Württemberg e.V. (IGBW)\nSilke Buchmüller\nRoggenweg 4\n71665 Vahingen/Enz\nsilke.buchmueller@igbw-ev.de
URL:https://igb-bayern.de/kurs/gruppendynamikkurs-anm-15-01-2025/
CATEGORIES:Baustein C
END:VEVENT
END:VCALENDAR