BEGIN:VCALENDAR
VERSION:2.0
PRODID:-//Integrative Gestaltpädagogik - ECPv6.15.17.1//NONSGML v1.0//EN
CALSCALE:GREGORIAN
METHOD:PUBLISH
X-WR-CALNAME:Integrative Gestaltpädagogik
X-ORIGINAL-URL:https://igb-bayern.de
X-WR-CALDESC:Veranstaltungen für Integrative Gestaltpädagogik
REFRESH-INTERVAL;VALUE=DURATION:PT1H
X-Robots-Tag:noindex
X-PUBLISHED-TTL:PT1H
BEGIN:VTIMEZONE
TZID:Europe/Berlin
BEGIN:DAYLIGHT
TZOFFSETFROM:+0100
TZOFFSETTO:+0200
TZNAME:CEST
DTSTART:20240331T010000
END:DAYLIGHT
BEGIN:STANDARD
TZOFFSETFROM:+0200
TZOFFSETTO:+0100
TZNAME:CET
DTSTART:20241027T010000
END:STANDARD
BEGIN:DAYLIGHT
TZOFFSETFROM:+0100
TZOFFSETTO:+0200
TZNAME:CEST
DTSTART:20250330T010000
END:DAYLIGHT
BEGIN:STANDARD
TZOFFSETFROM:+0200
TZOFFSETTO:+0100
TZNAME:CET
DTSTART:20251026T010000
END:STANDARD
BEGIN:DAYLIGHT
TZOFFSETFROM:+0100
TZOFFSETTO:+0200
TZNAME:CEST
DTSTART:20260329T010000
END:DAYLIGHT
BEGIN:STANDARD
TZOFFSETFROM:+0200
TZOFFSETTO:+0100
TZNAME:CET
DTSTART:20261025T010000
END:STANDARD
END:VTIMEZONE
BEGIN:VEVENT
DTSTART;TZID=Europe/Berlin:20250225T190000
DTEND;TZID=Europe/Berlin:20250225T200000
DTSTAMP:20260425T210701
CREATED:20250220T204125Z
LAST-MODIFIED:20250221T063919Z
UID:1890-1740510000-1740513600@igb-bayern.de
SUMMARY:Neu-Land-Suche...Anmeldeschluss: 25.02.25
DESCRIPTION:03.25 Neu-Land-Suche  – links ist der Flyer  „Die wahre Entdeckungsreise besteht nicht darin\, neue Landschaften zu suchen sondern mit neuen Augen zu sehen.“ – Marcel Proust \nOnline-Veranstaltung via Zoom \nTermine: jeweils Dienstagsabend von 19:00 – 20:30 h – 11.03./18.03./25.03./01.04.2025 \nElemente mit spirituellen Impulsen der Gestalt- und Biografiearbeit; Kreatives Schreiben und Gestalten; Zeit des Austausches und der Begegunung \nAnmeldung bei Margret Thome / 0176 555 61 933 / margretthome“ät“gmail.com  „ät“ ist gleich @ \n„Unterwegs mit Dir und Mir“ – Pilgern und Coaching / Gestaltpädagogin / NLP Practitioner / Systemische Coachin / Trainerin für Biografiearbeit \nFür IGB Mitglieder können 8 Vertiefungsstunden als Anrechnungsstunden vergeben werden.
URL:https://igb-bayern.de/kurs/neu-land-suche/
CATEGORIES:Baustein A
END:VEVENT
END:VCALENDAR