BEGIN:VCALENDAR
VERSION:2.0
PRODID:-//Integrative Gestaltpädagogik - ECPv6.15.17.1//NONSGML v1.0//EN
CALSCALE:GREGORIAN
METHOD:PUBLISH
X-WR-CALNAME:Integrative Gestaltpädagogik
X-ORIGINAL-URL:https://igb-bayern.de
X-WR-CALDESC:Veranstaltungen für Integrative Gestaltpädagogik
REFRESH-INTERVAL;VALUE=DURATION:PT1H
X-Robots-Tag:noindex
X-PUBLISHED-TTL:PT1H
BEGIN:VTIMEZONE
TZID:Europe/Berlin
BEGIN:DAYLIGHT
TZOFFSETFROM:+0100
TZOFFSETTO:+0200
TZNAME:CEST
DTSTART:20240331T010000
END:DAYLIGHT
BEGIN:STANDARD
TZOFFSETFROM:+0200
TZOFFSETTO:+0100
TZNAME:CET
DTSTART:20241027T010000
END:STANDARD
BEGIN:DAYLIGHT
TZOFFSETFROM:+0100
TZOFFSETTO:+0200
TZNAME:CEST
DTSTART:20250330T010000
END:DAYLIGHT
BEGIN:STANDARD
TZOFFSETFROM:+0200
TZOFFSETTO:+0100
TZNAME:CET
DTSTART:20251026T010000
END:STANDARD
BEGIN:DAYLIGHT
TZOFFSETFROM:+0100
TZOFFSETTO:+0200
TZNAME:CEST
DTSTART:20260329T010000
END:DAYLIGHT
BEGIN:STANDARD
TZOFFSETFROM:+0200
TZOFFSETTO:+0100
TZNAME:CET
DTSTART:20261025T010000
END:STANDARD
END:VTIMEZONE
BEGIN:VEVENT
DTSTART;TZID=Europe/Berlin:20250404T180000
DTEND;TZID=Europe/Berlin:20250406T130000
DTSTAMP:20260425T210634
CREATED:20240913T141936Z
LAST-MODIFIED:20240924T153745Z
UID:1490-1743789600-1743944400@igb-bayern.de
SUMMARY:PSYCHODRAMA- DAS LEBEN AUF DIE BÜHNE BRINGEN
DESCRIPTION:Das Leben auf die Bühne bringen\nPsychodramatische Methoden erlebt und reflektiert \nFr.\, 04.04.*18(AE) – So.\, 06.04.2025.*13 \nIm Workshop arbeiten wir mit Methoden des Psychodramas\, der „Schwester“ der Gestaltarbeit. Nach einer Anwärmung eröffnen die Erfahrungen und Erlebnisse der Teilnehmenden einen Erprobungsraum. In diesem arbeiten wir mit psychodramatischen Methoden\, so dass die Teilnehmenden sie kennenlernen können. Psychodrama eignet sich sowohl für selbsterfahrungsbezogenes Arbeiten als auch für seelsorgliches\, pädagogisches und beraterisches Arbeiten.\nIm Rahmen des Workshops können die Teilnehmenden das Erlebte auch reflektieren und auf die eigene Arbeit beziehen. \nMarco Kosziollek\, evangelischer Pfarrer in Kassel\, Pastoralpsychologe\, Psychodramatiker und Lehrsupervisor (DGfP) \nAnmeldung: anmeldung“ät“igb-bayern.de             „ät“ ist gleich @ \nAnmeldeschluss: 24.02.2025 \nKursgebühr: 55\,- Euro Pension: Fr-So 176\,-€ Vollpension (EZ/DU/WC)   (DZ 164\,- €) \nAnrechenbar mit  12 Vertiefungsstunden \n  \n  \n 
URL:https://igb-bayern.de/kurs/psychodrama-das-leben-auf-die-buehne-bringen/
LOCATION:Haus Werdenfels\, Waldweg 15\, Nittendorf\, 93152\, Deutschland
CATEGORIES:Baustein A
ORGANIZER;CN="IGB Bayern":MAILTO:anmeldung@igb-bayern.de
END:VEVENT
BEGIN:VEVENT
DTSTART;TZID=Europe/Berlin:20250404T180000
DTEND;TZID=Europe/Berlin:20250406T130000
DTSTAMP:20260425T210634
CREATED:20240916T145354Z
LAST-MODIFIED:20241001T164847Z
UID:1492-1743789600-1743944400@igb-bayern.de
SUMMARY:„MENSCH ÄRGERE DICH NICHT“ – KOMM\, LASS UNS SPIELEN!
DESCRIPTION:„MENSCH ÄRGERE DICH NICHT“ – KOMM\, LASS UNS SPIELEN! \nFr.\, 04.04.*18(AE) – So.\, 06.04.2025.*13 \nWer kennt ihn nicht – den Spieleklassiker „Mensch ärgere Dich nicht!“?! \nAls Brettspiel bestens vertraut\, verorten wir es meist in der Kindheit. Dass wir jedoch dieses „Spiel“ als Akteure im Hier und Jetzt häufig im Alltag spielen\, ist uns wohl eher weniger bewusst. \nBeim genaueren Betrachten tauchen möglicherweise ein paar Fragen auf: \nWer ist eigentlich gemeint mit „Mensch\, ärgere DICH nicht!“? \n– Wie kann ich die Spielregeln verändern/anpassen? \n– Welche Strategien und Ressourcen stehen mir im Umgang mit meinem Ärger zur Verfügung? \n– Wie komme ich (wieder) ins Spiel? \nDas Seminar lädt zu einer kleinen Entdeckungsreise ein – komm\, spiel mit! \nLeitung: Gabriele Friedrich\, StRin GS\, Gestaltberaterin (IGB) \nAnmeldung: anmeldung“ät“igb-bayern.de             „ät“ ist gleich @ \nKursgebühr: 55\,-Euro Pension: Fr-So 176\,-€ Vollpension (EZ/DU/WC) (DZ 164\,- €) \nAnrechenbar mit  12 Vertiefungsstunden \nAnmeldeschluss: 24.02.2025
URL:https://igb-bayern.de/kurs/mensch-aergere-dich-nicht-komm-lass-uns-spielen/
LOCATION:Haus Werdenfels\, Waldweg 15\, Nittendorf\, 93152\, Deutschland
CATEGORIES:Baustein A
ORGANIZER;CN="IGB Bayern":MAILTO:anmeldung@igb-bayern.de
END:VEVENT
BEGIN:VEVENT
DTSTART;TZID=Europe/Berlin:20250404T180000
DTEND;TZID=Europe/Berlin:20250406T150000
DTSTAMP:20260425T210634
CREATED:20231016T141623Z
LAST-MODIFIED:20240312T163511Z
UID:708-1743789600-1743951600@igb-bayern.de
SUMMARY:Grundlagen der Gestaltberatung
DESCRIPTION:Grundlagen der Gestaltberatung\n\n\nKontakt:\nHaus Werdenfels\, Waldweg 15 93152 Nittendorf Tel: 09404/9502-0 Mail: Anmeldung@Haus-Werdenfels.de\nKursinhalte: Grundlagen der Gestaltberatung \nIn Kooperation mit dem Haus Werdenfels \nFr 04.04.2025*18 – So 06.04.2025*15 \nInhalte des Seminars „Grundlagen der Gestaltberatung“ haben zum Ziel\, dass eine kritische Würdigung der eigenen Berufstätigkeit und ein respektvoller Austausch des Könnens mit anderen Bezugspersonen sich entwickelt. Das Erschließen einer tieferen Einsicht in Grenzen und Ressourcen der eigenen Persönlichkeit ermöglicht eine authentische Lebens- und Berufsgestaltung. \nDie Fähigkeit wird verbessert\, anderen beizustehen und sie pädagogisch und pastoral zu begleiten. Ermöglicht christliches Handeln und christliche Identität\, die verstärkt aus den Quellen des Glaubens (Gebet\, Bibel\, Liturgie) lebt. \nKursleiter: \nJohann Lummer\, Aiterhofen\, Gestalttrainer (IGB)\, Schulleiter am Gymnasium \nKursgebühr: 110.- € plus 145\,-Pension \nOrt: Haus Werdenfels\, Waldweg 15\, D-93152 Nittendorf \nWeitere Informationen:\nAnrechnung für Interessierte an den Inhalten des Curriculums für Baustein B 20 Stunden
URL:https://igb-bayern.de/kurs/grundlagen-der-gestaltberatung/
LOCATION:Haus Werdenfels\, Waldweg 15\, Nittendorf\, 93152\, Deutschland
CATEGORIES:Baustein B,Baustein C,Baustein D,Fortbildungskurs,Fortbildungskurs,Fortbildungskurs
ORGANIZER;CN="Haus Werdenfels":MAILTO:libon@Haus-Werdenfels.de
END:VEVENT
END:VCALENDAR