BEGIN:VCALENDAR
VERSION:2.0
PRODID:-//Integrative Gestaltpädagogik - ECPv6.15.17.1//NONSGML v1.0//EN
CALSCALE:GREGORIAN
METHOD:PUBLISH
X-ORIGINAL-URL:https://igb-bayern.de
X-WR-CALDESC:Veranstaltungen für Integrative Gestaltpädagogik
REFRESH-INTERVAL;VALUE=DURATION:PT1H
X-Robots-Tag:noindex
X-PUBLISHED-TTL:PT1H
BEGIN:VTIMEZONE
TZID:Europe/Berlin
BEGIN:DAYLIGHT
TZOFFSETFROM:+0100
TZOFFSETTO:+0200
TZNAME:CEST
DTSTART:20240331T010000
END:DAYLIGHT
BEGIN:STANDARD
TZOFFSETFROM:+0200
TZOFFSETTO:+0100
TZNAME:CET
DTSTART:20241027T010000
END:STANDARD
BEGIN:DAYLIGHT
TZOFFSETFROM:+0100
TZOFFSETTO:+0200
TZNAME:CEST
DTSTART:20250330T010000
END:DAYLIGHT
BEGIN:STANDARD
TZOFFSETFROM:+0200
TZOFFSETTO:+0100
TZNAME:CET
DTSTART:20251026T010000
END:STANDARD
BEGIN:DAYLIGHT
TZOFFSETFROM:+0100
TZOFFSETTO:+0200
TZNAME:CEST
DTSTART:20260329T010000
END:DAYLIGHT
BEGIN:STANDARD
TZOFFSETFROM:+0200
TZOFFSETTO:+0100
TZNAME:CET
DTSTART:20261025T010000
END:STANDARD
END:VTIMEZONE
BEGIN:VEVENT
DTSTART;TZID=Europe/Berlin:20250411T180000
DTEND;TZID=Europe/Berlin:20250416T130000
DTSTAMP:20260425T191901
CREATED:20231204T092848Z
LAST-MODIFIED:20250112T120118Z
UID:1129-1744394400-1744808400@igb-bayern.de
SUMMARY:Kompetenzkursblau - Spirituelle (Selbst-)Entwicklung
DESCRIPTION:KOMPETENZKURS Spirituelle (Selbst-)Entwicklung\nReferentin/Referent: Christina Eggerl\, Dr. Hans-Peter Eggerl\nZeit: Fr.\, 11.04.-Mi.\, 16.04.2025 Grundlagentage\nAnmerkung: Vor Anmeldung bzw. Zusage bitten wir um ein Orientierungs-Gespräch \nAnmeldung: per Mail info@deepbluesee.de \nKompetenzkursblau – Spirituelle (Selbst-)Entwicklung \nAusprägen und Gestaltenindividueller spiritueller Kompetenzen\nund authentischer Ausdrucksformenpersönlicher Seelenfürsorge \nHybrid-Jahreskurs \nWas mich ausmacht\, möchte ich entdecken\, pflegen und genießen.\nDas\, was ich bin\, ist unsichtbar in mir und will Gestalt und Ausdruck.\nMeine Seele bin ICH und meine Seele ist wunderschön. \nMein Seelenleben soll mir entsprechen\, es soll lebensfroh gestaltet sein\, leicht und authentisch\, bunt und dabei tiefgehend und seriös. Es soll meine Handschrift tragen und mir guttun; denn meine Seele bin ich. – Wenn Spiritualität heute neu entdeckt und zeitgemäß gepflegt wird\, dann geht das nicht ohne die je individuelle Passung: „Es gibt so viele Wege zu Gott\, wie es Menschen gibt“\, heißt es\, und das gilt sicher auch für die vielfältigen Arten und Weisen spirituell-authentischer Artikulation. Unser Kompetenzkursblau will genau hier ansetzen und für Sie hilfreich sein. Und er versteht sich als verantwortungsvoller und kundiger Begleiter eines Prozesses spiritueller (Selbst-)Entwicklung. \nIn verschiedenen attraktiven Kurseinheiten werden über fast ein Jahr hinweg die nötigen Einblicke ermöglicht und Erfahrungsräume eröffnet. Hier sollen Sie Gelegenheit erhalten\, wesentliche Kompetenzen für eine individuelle und kreative Gestaltung persönlicher\, christlich-basierter Spiritualität zu entwickeln und Ihre ganz persönlichen Erfahrungen mit kompetenten Referenten zu reflektieren. \nUnser Kompetenzkursblau ist hier nun als hybride Veranstaltungsform konzipiert und ausgestaltet\, d.h. drei mehrtägige Präsenzveranstaltungen (in Kurshäusern) einerseits und eine Reihe digitaler bzw. online-Elemente und -Einheiten andererseits bilden den Gesamtkurs. Somit fällt es Ihnen leichter\, den Kurs zeitlich in Ihren Alltagsablauf zu integrieren. Hinzu kommt das Angebot von wöchentlichen ZOOM-Treffen („Videokonferenz“)\, in dem einerseits die eigenverantwortlich durchgeführten Einheiten nachbesprochen und vertieft werden\, andererseits auch interaktiv Themen präsentiert und behandelt werden. \nUm Ihren persönlichen spirituellen Entwicklungsweg perfekt zu betreuen\, erhalten Sie von uns jeweils zu den einzelnen Moduleinheiten ein Materialpaket („Schatzkiste“) mit vielen hilfreichen und notwendigen Gegenständen sowie je 2 Themenheften pro Modul zum jeweiligen. Diese Hefte bündeln anschaulich und gut nachlesbar die Inhalte der einzelnen Einheiten in knappen und attraktiv gestalteten Artikeln und leiten verschiedene Übungen an. EinzelZOOM-Einheiten (je 60 min) pro Modul komplettieren das Programm. \nZeit:                       Mehrmonatskurs ab 11.04. bis 26.09.2025 (hybrid) \nSonst:   Kleine Kursgröße für bestmögliches individuell-passendes Setting (min. 5 Pers.;  max. 9 Personen) >> zeitig anmelden! \nKurskosten: 2650\,- € (Anzahlung: 850\,- € nach Anmeldung; Restzahlung zur Kursmitte)\n>> Hinzu kommen noch Ihre eigenen Kosten für Anfahrt\, Übernachtung und Verpflegung an den Präsenzveranstaltungen; hier können Sie eigenständig und nach Bedarf buchen; Vorreservierungen im Haus Spektrum Kirche in Passau und im Gästehaus Schloss Goldrain sind bereits gemacht und können übernommen werden. – Im Landhaus Holzen gibt es keine Übernachtungsmöglichkeiten\, jedoch Hotels oder Pensionen im nahegelegenen Pfarrkirchen oder Triftern. \nAnmeldung oder Nachfragen: per Mail info@deepbluesee.de \nLeitung/Referentin/Referent: \nChristina Eggerl\, Heilpraktikerin für Psychotherapie\, Resilienzberaterin\, Coach\, Geomantin\, spirituelle Entwicklerin\, Achtsamkeitstrainerin\, Ausbildungen in Gestaltpsychotherapie\, Systemischer Psychotherapie\, Naturspiritualität u.a.m. \n  \nund Dr. Hans-Peter Eggerl\, promovierter Theologe\, Seelsorger\, Religionspädagoge\, spiritueller Coach und Prozessbegleiter\, spiritueller Entwickler\, bildender Künstler\, Autor; \n  \n  \nKonkret: Kurseinheiten im Kompetenzkursblau \n\nGrundlagentage in Präsenzim Landhaus Holzen\, Pfarrkirchen\nvom FR 11. bis MI 16. April 2025\nModul-A: Lebensweltmystik. … und der Blick unter die Oberfläche (online/digital)\nModul-B: Wer ist G.O.T.T. … und was ist der M.E.N.S.C.H.? (online/digital)\nVertiefungstage in Präsenz im Exerzitien- und Bildungshaus Spektrum Kirche in Passau vom FR 01. bis SO 03. August 2025\nModul-C: Rituale. … und die Kunst der Inszenierung des Unsichtbaren (online/digital)\nModul-D: Seele malt. … und tanzt und schreibt und singt (online/digital)\nErahnungstage in Präsenz auf Schloss Goldrain\, Coldrano/Goldrain in Südtirol\nvom MO 22. bis FR 26. September 2025\n\nPro Modul erhalten die Teilnehmenden … \n\nje 2 Themenhefte\nje 2 Impuls- und Erklärvideos\nje 1 „Schatzkiste“ (Materialpaket)\nZugang zu einer digitalen Arbeits-\, Medien- und Austauschplattform\nAngebot regelmäßiger Begleitung in wöchentlichen ZOOMmeetings (MO-Abend\, 90 min.)\nAngebot individueller Einzelbegleitung: pro Modul 1 Stunde inklusive\n\n… die verschiedenen Angebote umkreisen jeweils die einzelnen Modul-Themen in unterschiedlichen Zugangsweisen\, mit unterschiedlichen Methoden und Medien\, sodass ein möglichst individuelles Erarbeiten und Vertiefen gewährleistet werden kann. \nEin Einheiten lassen sich gut in den Alltag integrieren und die vorgeschlagenen Übungen ohne Zeitdruck und zeitliche Überforderung realisieren. \nAnmerkung: Vor Anmeldung bzw. Zusage bitten wir um ein Orientierungs-Gespräch\, um sicher zu gehen\, dass der Kurs tatsächlich für Sie passend ist\, beraten wir Sie gerne. Im Sinne einer harmonischen Kursdynamik innerhalb der Teilnehmenden ist es uns sehr wichtig\, hier für Klarheit und Sicherheit zu sorgen; und zudem auch uns zu versichern\, dass Sie bei uns richtig sind.
URL:https://igb-bayern.de/kurs/kompetenzkursblau/
CATEGORIES:Seminare
ORGANIZER;CN="Christina und Hans-Peter Eggerl":MAILTO:info@deepbluesee.de
END:VEVENT
END:VCALENDAR