BEGIN:VCALENDAR
VERSION:2.0
PRODID:-//Integrative Gestaltpädagogik - ECPv6.15.17.1//NONSGML v1.0//EN
CALSCALE:GREGORIAN
METHOD:PUBLISH
X-ORIGINAL-URL:https://igb-bayern.de
X-WR-CALDESC:Veranstaltungen für Integrative Gestaltpädagogik
REFRESH-INTERVAL;VALUE=DURATION:PT1H
X-Robots-Tag:noindex
X-PUBLISHED-TTL:PT1H
BEGIN:VTIMEZONE
TZID:Europe/Berlin
BEGIN:DAYLIGHT
TZOFFSETFROM:+0100
TZOFFSETTO:+0200
TZNAME:CEST
DTSTART:20240331T010000
END:DAYLIGHT
BEGIN:STANDARD
TZOFFSETFROM:+0200
TZOFFSETTO:+0100
TZNAME:CET
DTSTART:20241027T010000
END:STANDARD
BEGIN:DAYLIGHT
TZOFFSETFROM:+0100
TZOFFSETTO:+0200
TZNAME:CEST
DTSTART:20250330T010000
END:DAYLIGHT
BEGIN:STANDARD
TZOFFSETFROM:+0200
TZOFFSETTO:+0100
TZNAME:CET
DTSTART:20251026T010000
END:STANDARD
BEGIN:DAYLIGHT
TZOFFSETFROM:+0100
TZOFFSETTO:+0200
TZNAME:CEST
DTSTART:20260329T010000
END:DAYLIGHT
BEGIN:STANDARD
TZOFFSETFROM:+0200
TZOFFSETTO:+0100
TZNAME:CET
DTSTART:20261025T010000
END:STANDARD
END:VTIMEZONE
BEGIN:VEVENT
DTSTART;TZID=Europe/Berlin:20250523T180000
DTEND;TZID=Europe/Berlin:20250525T130000
DTSTAMP:20260425T172221
CREATED:20240716T090935Z
LAST-MODIFIED:20250325T164200Z
UID:1451-1748023200-1748178000@igb-bayern.de
SUMMARY:Paarwochenende "Zusammenwachsen"- zusammen wachsen-Wochenende für Paare
DESCRIPTION:Zusammenwachsen“- zusammen wachsen-Wochenende für Paare \nvom Fr.\, 23.-So.\, 25.05.2025 \n\n\n\nWo stehen wir als Paar und wie sind wir miteinander unterwegs? Gemeinsam gehen wir diesen Fragen nach\, um das Leben zu zweit anzuschauen und den gemeinsamen Alltag weiter zu gestallten. Inhalte: • Impulse für das Leben als Paar • Auszeit zu zweit • Zeit für sich • Gemeinsames Feiern • Gottesdienst • Austausch in der Gruppe • Ruhe und Erholung\n\n\n\nKurs: 60\,00 € pro Person plus Pension.  \n2024 waren dies: 275\,00 € pro Paar im DZ mit Du/WC \nKursleitung: Dagmar Binner\, Martina Kohl\, Kathrin Karban-Völkl\nDie Referentinnen sind alle Gestaltpädagoginnen und in unterschiedlichen Berufsfeldern tätig. (Kosten unterstützt durch IGB\, KEB und Haus Werdenfels)\nAnmeldung: Anmeldung@Haus-Werdenfels.de   www.haus-werdenfels.de
URL:https://igb-bayern.de/kurs/zusammenwachsen-zusammen-wachsen-wochenende-fuer-paare/
LOCATION:Haus Werdenfels\, Waldweg 15\, Nittendorf\, 93152\, Deutschland
ORGANIZER;CN="Haus Werdenfels":MAILTO:libon@Haus-Werdenfels.de
END:VEVENT
END:VCALENDAR