BEGIN:VCALENDAR
VERSION:2.0
PRODID:-//Integrative Gestaltpädagogik - ECPv6.15.17.1//NONSGML v1.0//EN
CALSCALE:GREGORIAN
METHOD:PUBLISH
X-WR-CALNAME:Integrative Gestaltpädagogik
X-ORIGINAL-URL:https://igb-bayern.de
X-WR-CALDESC:Veranstaltungen für Integrative Gestaltpädagogik
REFRESH-INTERVAL;VALUE=DURATION:PT1H
X-Robots-Tag:noindex
X-PUBLISHED-TTL:PT1H
BEGIN:VTIMEZONE
TZID:Europe/Berlin
BEGIN:DAYLIGHT
TZOFFSETFROM:+0100
TZOFFSETTO:+0200
TZNAME:CEST
DTSTART:20240331T010000
END:DAYLIGHT
BEGIN:STANDARD
TZOFFSETFROM:+0200
TZOFFSETTO:+0100
TZNAME:CET
DTSTART:20241027T010000
END:STANDARD
BEGIN:DAYLIGHT
TZOFFSETFROM:+0100
TZOFFSETTO:+0200
TZNAME:CEST
DTSTART:20250330T010000
END:DAYLIGHT
BEGIN:STANDARD
TZOFFSETFROM:+0200
TZOFFSETTO:+0100
TZNAME:CET
DTSTART:20251026T010000
END:STANDARD
BEGIN:DAYLIGHT
TZOFFSETFROM:+0100
TZOFFSETTO:+0200
TZNAME:CEST
DTSTART:20260329T010000
END:DAYLIGHT
BEGIN:STANDARD
TZOFFSETFROM:+0200
TZOFFSETTO:+0100
TZNAME:CET
DTSTART:20261025T010000
END:STANDARD
END:VTIMEZONE
BEGIN:VEVENT
DTSTART;TZID=Europe/Berlin:20250529T180000
DTEND;TZID=Europe/Berlin:20250601T130000
DTSTAMP:20260425T152242
CREATED:20250108T185049Z
LAST-MODIFIED:20250108T185049Z
UID:1747-1748541600-1748782800@igb-bayern.de
SUMMARY:Getanztes Gebet - Meditativer Tanz für Anleiter/innen
DESCRIPTION:Das Seminar richtet sich an Menschen\, die sakralen bzw. meditativen Tanz als ganzheitliche Form des Betens bzw. Feierns in Gemeinde\, Schule und Erwachsenenbildung erproben und selbst anleiten wollen. \nIm Kurs wird daher die Wirkung ganzheitlich gelebten Glaubens selbst erfahren und vertieft sowie Methoden der Einführung und Anleitung vermittelt. \nKursinhalte: \n\nWiederentdeckung der Leiblichkeit in Meditation\, Gebet und meditativem Tanz\nSinnes\,- Atemwahrnehmung\nKörperwahrnehmung und Ausdruck\nBewegungsformen\, Haltungen\, Ur-Gebärden\nArbeiten mit Archetypen\, Symbolen und Themen (z.B. Labyrinth)\n\nKursleiterin: Petra Staiger\, Integrative Tanztherapeutin (DGT®)\, Integrative Gestalttrainerin (IGB)\, Dipl.-Sozialpäd. (FH)\, Referentin für sakralen Tanz \nKosten: 100\,- Euro plus Pension \nOrt: Haus Werdenfels\, Waldweg 15\, D-93152 \nAnrechenbar für Mitglieder des IGB mit 12 Vertiefungsstunden\, die als Nachweis der Reflexion der gestaltpädagogischen Praxis gelten.\n \n 
URL:https://igb-bayern.de/kurs/getanztes-gebet-meditativer-tanz-fuer-anleiter-innen/
LOCATION:Haus Werdenfels\, Waldweg 15\, Nittendorf\, 93152\, Deutschland
CATEGORIES:Seminare
ORGANIZER;CN="Haus Werdenfels":MAILTO:libon@Haus-Werdenfels.de
END:VEVENT
END:VCALENDAR