BEGIN:VCALENDAR
VERSION:2.0
PRODID:-//Integrative Gestaltpädagogik - ECPv6.15.17.1//NONSGML v1.0//EN
CALSCALE:GREGORIAN
METHOD:PUBLISH
X-ORIGINAL-URL:https://igb-bayern.de
X-WR-CALDESC:Veranstaltungen für Integrative Gestaltpädagogik
REFRESH-INTERVAL;VALUE=DURATION:PT1H
X-Robots-Tag:noindex
X-PUBLISHED-TTL:PT1H
BEGIN:VTIMEZONE
TZID:Europe/Berlin
BEGIN:DAYLIGHT
TZOFFSETFROM:+0100
TZOFFSETTO:+0200
TZNAME:CEST
DTSTART:20240331T010000
END:DAYLIGHT
BEGIN:STANDARD
TZOFFSETFROM:+0200
TZOFFSETTO:+0100
TZNAME:CET
DTSTART:20241027T010000
END:STANDARD
BEGIN:DAYLIGHT
TZOFFSETFROM:+0100
TZOFFSETTO:+0200
TZNAME:CEST
DTSTART:20250330T010000
END:DAYLIGHT
BEGIN:STANDARD
TZOFFSETFROM:+0200
TZOFFSETTO:+0100
TZNAME:CET
DTSTART:20251026T010000
END:STANDARD
BEGIN:DAYLIGHT
TZOFFSETFROM:+0100
TZOFFSETTO:+0200
TZNAME:CEST
DTSTART:20260329T010000
END:DAYLIGHT
BEGIN:STANDARD
TZOFFSETFROM:+0200
TZOFFSETTO:+0100
TZNAME:CET
DTSTART:20261025T010000
END:STANDARD
END:VTIMEZONE
BEGIN:VEVENT
DTSTART;TZID=Europe/Berlin:20250712T090000
DTEND;TZID=Europe/Berlin:20250712T160000
DTSTAMP:20260425T134621
CREATED:20250111T204643Z
LAST-MODIFIED:20250112T115702Z
UID:1770-1752310800-1752336000@igb-bayern.de
SUMMARY:2025 Online-Erlebnistag zur Systemischen Gestaltarbeit
DESCRIPTION:Online-Erlebnistag zur Systemischen Gestaltarbeit\n\n\n12.07.2025\, 09:00 Uhr bis12.07.2025\, 16:00 Uhr \n\n\n\n\n\n– Schnuppermöglichkeit für den Grundkurs Gestaltpädagogik\n\nOnline-Erlebnistage bieten dir die Möglichkeit zu erleben\, wie mit virtuellen Aufstellungstools SystemAufstellungen gemacht und auch angeleitet werden können. \nDer Tag wird für den Grundkurs „Integrative Gestaltpädagogik und heilende Seelsorge“ angerechnet. Er kann auch dazu dienen\, gestaltpädagogisch-systemisches Arbeiten und das Trainerteam kennenzulernen \nDer Online-Tag kann ganz aber auch unabhängig davon und individuell als Supervisionstag für sich selbst genutzt werden.Sie können dabei eigene Fälle aus den privaten oder beruflichen Kontexten einbringen und sich supervidieren lassen. \nTheoretische Inputs reflektieren die praktischen Erfahrungen.Inhalte: \n• Was macht Systemische Gestaltarbeit aus\n• Kontaktmodell aus der Gestalt und Systemisches Denken\n• Vorgehensweise einer gestaltorientierten SystemAufstellung\n• Basic-Interventionen für Aufstellungsarbeit\n• SystemAufstellungen aus privaten und beruflichen Kontexten \nJeder Tag kann einzeln gebucht werden und wird für die 5. Einheit der Ausbildung in Gestaltpädagogik anerkannt.\n4 Online-Erlebnistage ersetzen die 5. Gestalteinheit\, ebenso 2 Online-Erlebnistage + Präsenz-Schnupperwochenende. \nWeitere Informationen hierzu und zum gesamten Grundkurs „Integrative Gestaltpädagogik und heilende Seelsorge“ im Büro Haus Werdenfels \n\n\n\n\nKursgebühr\n55\,00 \nKursleitung: \nChristine Seufert\n\n\nDiplomtheologin | Pastoralreferentin | NLP-Lehrtrainerin (DVNLP) | Gestaltpädagogin und -Trainerin (IGB) \n\n\n  \n\n\n\n\n\nAnmeldung: E-Mail: Buero@Haus-Werdenfels.de
URL:https://igb-bayern.de/kurs/2025-online-erlebnistag-zur-systemischen-gestaltarbeit-2/
LOCATION:Haus Werdenfels\, Waldweg 15\, Nittendorf\, 93152\, Deutschland
CATEGORIES:Baustein A,Grundkurs,Schnupperkurs,Zoom Kurs
ORGANIZER;CN="Haus Werdenfels":MAILTO:libon@Haus-Werdenfels.de
END:VEVENT
END:VCALENDAR