BEGIN:VCALENDAR
VERSION:2.0
PRODID:-//Integrative Gestaltpädagogik - ECPv6.15.17.1//NONSGML v1.0//EN
CALSCALE:GREGORIAN
METHOD:PUBLISH
X-WR-CALNAME:Integrative Gestaltpädagogik
X-ORIGINAL-URL:https://igb-bayern.de
X-WR-CALDESC:Veranstaltungen für Integrative Gestaltpädagogik
REFRESH-INTERVAL;VALUE=DURATION:PT1H
X-Robots-Tag:noindex
X-PUBLISHED-TTL:PT1H
BEGIN:VTIMEZONE
TZID:Europe/Berlin
BEGIN:DAYLIGHT
TZOFFSETFROM:+0100
TZOFFSETTO:+0200
TZNAME:CEST
DTSTART:20240331T010000
END:DAYLIGHT
BEGIN:STANDARD
TZOFFSETFROM:+0200
TZOFFSETTO:+0100
TZNAME:CET
DTSTART:20241027T010000
END:STANDARD
BEGIN:DAYLIGHT
TZOFFSETFROM:+0100
TZOFFSETTO:+0200
TZNAME:CEST
DTSTART:20250330T010000
END:DAYLIGHT
BEGIN:STANDARD
TZOFFSETFROM:+0200
TZOFFSETTO:+0100
TZNAME:CET
DTSTART:20251026T010000
END:STANDARD
BEGIN:DAYLIGHT
TZOFFSETFROM:+0100
TZOFFSETTO:+0200
TZNAME:CEST
DTSTART:20260329T010000
END:DAYLIGHT
BEGIN:STANDARD
TZOFFSETFROM:+0200
TZOFFSETTO:+0100
TZNAME:CET
DTSTART:20261025T010000
END:STANDARD
END:VTIMEZONE
BEGIN:VEVENT
DTSTART;TZID=Europe/Berlin:20251205T180000
DTEND;TZID=Europe/Berlin:20251207T130000
DTSTAMP:20260425T052828
CREATED:20250720T165945Z
LAST-MODIFIED:20250721T064712Z
UID:2057-1764957600-1765112400@igb-bayern.de
SUMMARY:„Advent – warten auf…“
DESCRIPTION:„Advent – warten auf…“\nAdventliche Tage \nFreitag 5. Dezember 2025 * 18.00 Uhr\nbis Sonntag 7.Dezember 2025 * 13.00 Uhr \nWir wollen innehalten und diese besonderen Tage vor Weihnachten mit allen Sinnen wahrnehmen. Lassen Sie uns gemeinsam das Kostbare in dieser Zeit entdecken.\nMit einer kreativen Methode entstehen kleine Bilder als Collagen\, die uns in das adventliche Thema eintauchen lassen. Austausch und Begegnung bereichern die Tage. Meditative Tänze umrahmen die Einheiten und lassen uns bei uns selbst ankommen.\nFreuen Sie sich auf eine Zeit für sich und lassen Sie sich überraschen von dem was entstehen möchte. \nKursleitung:\nFrau Gertraud Baldauf\nTanz- und Ausdruckstherapeutin (Wendepunkt);\nGestaltberaterin (IGB);\nNLP-Trainer (DVNLP);\nHeilpraktikerin für Psychotherapie \n  \n  \nAnrechnung von 12 Vertiefungsstunden gemäß dem Curriculum (IGB) für Baustein A oder B
URL:https://igb-bayern.de/kurs/advent-warten-auf/
LOCATION:Haus Werdenfels\, Waldweg 15\, Nittendorf\, 93152\, Deutschland
CATEGORIES:Baustein A,Baustein B
END:VEVENT
END:VCALENDAR