BEGIN:VCALENDAR
VERSION:2.0
PRODID:-//Integrative Gestaltpädagogik - ECPv6.15.17.1//NONSGML v1.0//EN
CALSCALE:GREGORIAN
METHOD:PUBLISH
X-ORIGINAL-URL:https://igb-bayern.de
X-WR-CALDESC:Veranstaltungen für Integrative Gestaltpädagogik
REFRESH-INTERVAL;VALUE=DURATION:PT1H
X-Robots-Tag:noindex
X-PUBLISHED-TTL:PT1H
BEGIN:VTIMEZONE
TZID:Europe/Berlin
BEGIN:DAYLIGHT
TZOFFSETFROM:+0100
TZOFFSETTO:+0200
TZNAME:CEST
DTSTART:20240331T010000
END:DAYLIGHT
BEGIN:STANDARD
TZOFFSETFROM:+0200
TZOFFSETTO:+0100
TZNAME:CET
DTSTART:20241027T010000
END:STANDARD
BEGIN:DAYLIGHT
TZOFFSETFROM:+0100
TZOFFSETTO:+0200
TZNAME:CEST
DTSTART:20250330T010000
END:DAYLIGHT
BEGIN:STANDARD
TZOFFSETFROM:+0200
TZOFFSETTO:+0100
TZNAME:CET
DTSTART:20251026T010000
END:STANDARD
BEGIN:DAYLIGHT
TZOFFSETFROM:+0100
TZOFFSETTO:+0200
TZNAME:CEST
DTSTART:20260329T010000
END:DAYLIGHT
BEGIN:STANDARD
TZOFFSETFROM:+0200
TZOFFSETTO:+0100
TZNAME:CET
DTSTART:20261025T010000
END:STANDARD
END:VTIMEZONE
BEGIN:VEVENT
DTSTART;TZID=Europe/Berlin:20251209T100000
DTEND;TZID=Europe/Berlin:20251209T150000
DTSTAMP:20260425T053436
CREATED:20250930T162325Z
LAST-MODIFIED:20250930T162810Z
UID:2157-1765274400-1765292400@igb-bayern.de
SUMMARY:Spirituell ge(h)meinsam unterwegs sein in der Natur Rund um Regensburg
DESCRIPTION:ge(h)meinsam mit Manuela Karmann auf dem Weg sein \n„Es gibt einen Weg\, den niemand geht\, wenn du ihn nicht gehst. Wege entstehen\, indem wir sie gehen.“\nBegleitete Spaziergänge mit geistlichen und meditativen Impulsen im Regensburger Umland (Anfahrt selbst organisieren) \nBeitrag: 21\,00 € \nDienstag\, den 09.12.2025 →Besinnungsweg – Hainsacker – Jubiläumsrunde; Start: 10:00 h; ca. 8 km – „einfach“ – bitte für gutes Schuhwerk und angepasste Kleidung sorgen; Getränke und Brotzeit selbst mitbringen. \nParkplatz: Gasthof Prösselbräu\, 93183 Hainsacker \nAnmeldung: Haus Werdenfels\, Mail: anmeldung@haus-werdenfels.de \n                                                           Anrechenbar für IGB-Mitglieder: 6 Vertiefungsstunden.\nVoranzeige: \nDienstag\, den 13.01.2026 → neue Routen in Arbeit \nKursleitung:\nManuela Karmann\nEmpfangsleitung Haus Werdenfels\nNLP-Practitioner (INLP)\nGestaltpädagogin
URL:https://igb-bayern.de/kurs/gehmeinsam-unterwegs-im-regensburger-umland-3/
LOCATION:Haus Werdenfels\, Waldweg 15\, Nittendorf\, 93152\, Deutschland
END:VEVENT
END:VCALENDAR