BEGIN:VCALENDAR
VERSION:2.0
PRODID:-//Integrative Gestaltpädagogik - ECPv6.15.17.1//NONSGML v1.0//EN
CALSCALE:GREGORIAN
METHOD:PUBLISH
X-ORIGINAL-URL:https://igb-bayern.de
X-WR-CALDESC:Veranstaltungen für Integrative Gestaltpädagogik
REFRESH-INTERVAL;VALUE=DURATION:PT1H
X-Robots-Tag:noindex
X-PUBLISHED-TTL:PT1H
BEGIN:VTIMEZONE
TZID:Europe/Berlin
BEGIN:DAYLIGHT
TZOFFSETFROM:+0100
TZOFFSETTO:+0200
TZNAME:CEST
DTSTART:20250330T010000
END:DAYLIGHT
BEGIN:STANDARD
TZOFFSETFROM:+0200
TZOFFSETTO:+0100
TZNAME:CET
DTSTART:20251026T010000
END:STANDARD
BEGIN:DAYLIGHT
TZOFFSETFROM:+0100
TZOFFSETTO:+0200
TZNAME:CEST
DTSTART:20260329T010000
END:DAYLIGHT
BEGIN:STANDARD
TZOFFSETFROM:+0200
TZOFFSETTO:+0100
TZNAME:CET
DTSTART:20261025T010000
END:STANDARD
BEGIN:DAYLIGHT
TZOFFSETFROM:+0100
TZOFFSETTO:+0200
TZNAME:CEST
DTSTART:20270328T010000
END:DAYLIGHT
BEGIN:STANDARD
TZOFFSETFROM:+0200
TZOFFSETTO:+0100
TZNAME:CET
DTSTART:20271031T010000
END:STANDARD
END:VTIMEZONE
BEGIN:VEVENT
DTSTART;TZID=Europe/Berlin:20260206T180000
DTEND;TZID=Europe/Berlin:20260208T130000
DTSTAMP:20260425T020446
CREATED:20251007T190935Z
LAST-MODIFIED:20251021T142202Z
UID:2187-1770400800-1770555600@igb-bayern.de
SUMMARY:Glaube\, der tanzt - Glauben ausdrücken und Leben vertiefen
DESCRIPTION:Gott spricht: „ Siehe ich mache alles neu!“\n(Off 21\,5) \nGlaube\, der tanzt weiß um die eine Mitte\n➢ die mich anzieht und hält\n➢ die stehen bleibt und bewegt\n➢ die uns sammelt und verbindet \nIn diesem Seminar werden wir Bibelworte Fleisch werden lassen. \nElemente:\nMorgenmeditation\nBibelarbeit\nsakraler Tanz\nLeibarbeit\nGottesdienst \nUnterschiedliche Methoden aus der Gestaltarbeit bringen in Kontakt mit dem Wort\, sich selbst und dem Nächsten.\nBitte Wachsmalkreiden und Malpapier mitbringen. \n12 Stunden als Vertiefungsstunden anrechenbar für Baustein A \nKursleitung:\nPetra Staiger\nIntegrative Tanztherapeutin DGT®\,\nIntegrative Gestalttrainerin (IGB)\,\nReferentin für sakralen Tanz
URL:https://igb-bayern.de/kurs/glaube-der-tanzt-glauben-ausdruecken-und-leben-vertiefen/
LOCATION:Haus Werdenfels\, Waldweg 15\, Nittendorf\, 93152\, Deutschland
CATEGORIES:Baustein A,Schnupperkurs,Seminare
END:VEVENT
END:VCALENDAR