BEGIN:VCALENDAR
VERSION:2.0
PRODID:-//Integrative Gestaltpädagogik - ECPv6.15.17.1//NONSGML v1.0//EN
CALSCALE:GREGORIAN
METHOD:PUBLISH
X-ORIGINAL-URL:https://igb-bayern.de
X-WR-CALDESC:Veranstaltungen für Integrative Gestaltpädagogik
REFRESH-INTERVAL;VALUE=DURATION:PT1H
X-Robots-Tag:noindex
X-PUBLISHED-TTL:PT1H
BEGIN:VTIMEZONE
TZID:Europe/Berlin
BEGIN:DAYLIGHT
TZOFFSETFROM:+0100
TZOFFSETTO:+0200
TZNAME:CEST
DTSTART:20250330T010000
END:DAYLIGHT
BEGIN:STANDARD
TZOFFSETFROM:+0200
TZOFFSETTO:+0100
TZNAME:CET
DTSTART:20251026T010000
END:STANDARD
BEGIN:DAYLIGHT
TZOFFSETFROM:+0100
TZOFFSETTO:+0200
TZNAME:CEST
DTSTART:20260329T010000
END:DAYLIGHT
BEGIN:STANDARD
TZOFFSETFROM:+0200
TZOFFSETTO:+0100
TZNAME:CET
DTSTART:20261025T010000
END:STANDARD
BEGIN:DAYLIGHT
TZOFFSETFROM:+0100
TZOFFSETTO:+0200
TZNAME:CEST
DTSTART:20270328T010000
END:DAYLIGHT
BEGIN:STANDARD
TZOFFSETFROM:+0200
TZOFFSETTO:+0100
TZNAME:CET
DTSTART:20271031T010000
END:STANDARD
END:VTIMEZONE
BEGIN:VEVENT
DTSTART;TZID=Europe/Berlin:20260216T160000
DTEND;TZID=Europe/Berlin:20260220T130000
DTSTAMP:20260425T034903
CREATED:20251025T103302Z
LAST-MODIFIED:20251025T103402Z
UID:2264-1771257600-1771592400@igb-bayern.de
SUMMARY:Gestaltschnupperkurs bei Dresden-Dem Leben auf die Spur kommen
DESCRIPTION:Gestaltschnupperkurs bei Dresden-Dem Leben auf die Spur kommen \nTermine: 16.-20.02.26 oder 22.-25.06.26 \nDem Leben auf die Spur kommen: Was macht dich lebendig\, richtet dich auf\, stärkt dich? Dich beschenken lassen von neuer Lebensfreude und -energie und andere beschenken. Das ist eine der vielen Facetten von der Gestaltpädagogik. \,Erlösung muss erfahrbar sein“\, meint Prof. Dr. Albert Höfer\, Begründer der integrativen Gestaltpädagogik und heilenden Seelsorge. Aus diesem Grund beginnen die Kurse mit Selbsterfahrung\, bevor Reflektion und Lerninput folgen. Kosten: 216 € Kursgebühr zzgl. Übernachtungs- und Verpflegungskosten und 20 € Tagungspauschale. Diese Maßnahme wird mitfinanziert durch Steuermittel auf der Grundlage des von den Abgeordneten des Sächsischen Landtags beschlossenen Haushaltes. Die Veranstaltung findet in Kooperation mit der EEB Sachsen statt. \nDie Buchung erfolgt nur als Einheit. \nFolgende Kurse sind verbindlich: 12.-16.10.2026 Modul 2; 05.-08.04.2027 Modul 3; 19.-23.07.2027 Modul 4; 11.-15.10.2027 Modul 5; 24.-27.04.2028 Modul 6; 31.07.-04.08.2028 Modul 7; 23.-27.10.2028 Modul 8. Die verbindliche Anmeldung erfolgt nach dem Schnupperkurs. \nDas Trainerteam besteht aus Gerhard Gigler und Anett Sprinz \nhttps://tpi-moritzburg.de
URL:https://igb-bayern.de/kurs/gestaltschnupperkurs-bei-dresden-dem-leben-auf-die-spur-kommen-2/
LOCATION:Theologisch Pädagogisches Institut\, Bahnhofstr. 9\, 01468 Moritzburg\, Sachsen
CATEGORIES:Baustein A,Grundkurs
ORGANIZER;CN="Theologisch-P%C3%A4dagogische Institut (TPI)":MAILTO:info.tpi-moritzburg@evlks.de
END:VEVENT
BEGIN:VEVENT
DTSTART;TZID=Europe/Berlin:20260219T143000
DTEND;TZID=Europe/Berlin:20260222T130000
DTSTAMP:20260425T034903
CREATED:20250720T160921Z
LAST-MODIFIED:20250721T063901Z
UID:2042-1771511400-1771765200@igb-bayern.de
SUMMARY:Seele malt Spirituelle künstlerisch-kreative Tage
DESCRIPTION:Geschaffen\, um zu werden.\nGottseidank NATUR\, in mir und\num mich herum \nDonnerstag\, 19. Februar 2026 * 14.30 Uhr\nbis Sonntag\, 22. Februar 2026 * 13.00 Uhr \nSpirituelle Impulse und Anregungen zum Sinnieren und Nachempfinden motivieren zur Beschäftigung mit mir\, meinen Themen und meinem Inneren. All das führt zum kreativen Ausdruck mit angeleiteten Techniken der Acryl-Malerei auf unterschiedlichen Malgründen.\nZeit zur Muße\, Gelegenheit zur Innerlichkeit\, eindrückliche und unverbrauchte liturgische Einheiten wechseln sich ab mit den Phasen des kreativ-künstlerischen Gestaltens mit Farben und Formen.\nDas Resultat: Eine Zeit der Innerlichkeit und herrlich authentische Bilder mit Tiefgang.\nEs sind keine künstlerisch-malerischen Vorkenntnisse erforderlich; allein die Lust am Kreativsein genügt.\nDas Resultat: Eine Zeit der Innerlichkeit und herrlich authentische Bilder mit Tiefgang. \nDie Materialkosten von 48\,-€ sind direkt im Kurs beim Referenten zu bezahlen. \nKursleitung: \n \n  \nDr. Hans-Peter Eggerl\nHapee\nTheologe und Bilden-\nder Künstler\, Passau\,\nSeelsorger \n  \n  \n15 Std. anrechenbar als Vertiefungsstd. für Baustein A \n 
URL:https://igb-bayern.de/kurs/seele-malt-spirituelle-kuenstlerisch-kreative-tage/
LOCATION:Haus Werdenfels\, Waldweg 15\, Nittendorf\, 93152\, Deutschland
CATEGORIES:Baustein A,Baustein B
END:VEVENT
BEGIN:VEVENT
DTSTART;TZID=Europe/Berlin:20260219T180000
DTEND;TZID=Europe/Berlin:20260222T130000
DTSTAMP:20260425T034903
CREATED:20250720T155137Z
LAST-MODIFIED:20250721T064344Z
UID:2036-1771524000-1771765200@igb-bayern.de
SUMMARY:Was spricht mein Körper und warum weiß ich nichts davon?
DESCRIPTION:Was spricht mein Körper und warum weiß ich nichts davon?\nGestaltpädagogisches Seminar \nDonnerstag\, 19. Februar 2026 * 14.30 Uhr\nbis Sonntag\, 22. Februar 2026 * 13.00 Uhr \n„Der menschliche Körper ist das beste Bild der menschlichen Seele.“    (L.Wittgenstein) \nDie Sprache des Körpers ist eine Sprache des seelischen Zustands\, eingebettet ist darin unser bewusster Verstand. Die stille Sprache birgt Missverständnisse und Rätsel. Unseren nonverbalen Ausdruck zu interpretieren bedarf der Übung. \nAlexander Veit gibt einen plastischen Einblick in diese Welt des Averbalen und der Wirkungen\, zeigt Wege auf wie fördernd es sein kann\, unsere Botschaften bewusst zu erkennen. Das Wissen um die Körpersprache bringt mehr Leichtigkeit in das große Phänomen der Kommunikation. \nDie Themen behandeln die Bereiche Haltung und Geste\, Mimik\, Status- und Raumverhalten\, Körperkontakt und Bewegung. Wege der Veränderung und Weiterentwicklung der Körperbewusstheit runden das Seminar ab. \nVoraussetzung: Bringen Sie Ihren Körper mit. \n Anrechnung von 15 Vertiefungsstunden gemäß dem Curriculum (IGB)\nfür Baustein A oder B \n \nReferent: Alexander Veit\nPantomime\,\nRegisseur und\nKonzeptkünstler\, Dozent für nonverbale Kommunikation Lehrauftrag an der\nUniversität Passau\nThemen: Körpersprache\, Auftritt\, Systeme und Körper.
URL:https://igb-bayern.de/kurs/was-spricht-mein-koerper-und-warum-weiss-ich-nichts-davon-3/
LOCATION:Haus Werdenfels\, Waldweg 15\, Nittendorf\, 93152\, Deutschland
CATEGORIES:Baustein A,Baustein B
END:VEVENT
BEGIN:VEVENT
DTSTART;TZID=Europe/Berlin:20260220T150000
DTEND;TZID=Europe/Berlin:20260220T180000
DTSTAMP:20260425T034903
CREATED:20251108T200339Z
LAST-MODIFIED:20260204T081622Z
UID:2290-1771599600-1771610400@igb-bayern.de
SUMMARY:Am Ende rund
DESCRIPTION:Ein veränderter Bibeltext wird uns in der gemeinsamen Zeit begleiten.  Unsere Hände dienen als Wegbegleiter bei der Erforschung und Entwicklung eines persönlichen Themas. Wir gestalten eine Votivtafel. Der nachfolgende Text begleitet uns: „Alles\, was Du für dein Leben verändert haben willst und darum bittest\, sei überzeugt\, dass Du es schon erreicht hast\, dann wird es Dir zuteil\, bevor Du aber für dein Leben etwas verändert haben willst\, schau nach\, ob Du jemand und auch Dir etwas vorzuwerfen hast\, wenn ja\, dann versöhne Dich.“ \nLeitung: Josef Lugeder\, Gestalttrainer (IGB)\nAnmeldung: anmeldung@igb-bayern.de \nKursgebühr: 15\,-Euro  Pension je nach Wahl der Hauskosten \nÜbersicht der Hauskosten bitte anfordern. Danke \nAnrechenbar mit 4 Vertiefungsstunden \nSa.\, 21.02.2026 um 16.30 Uhr Mitgliederversammlung des IGB
URL:https://igb-bayern.de/kurs/am-ende-rund/
LOCATION:Haus Werdenfels\, Waldweg 15\, Nittendorf\, 93152\, Deutschland
END:VEVENT
BEGIN:VEVENT
DTSTART;TZID=Europe/Berlin:20260220T150000
DTEND;TZID=Europe/Berlin:20260222T130000
DTSTAMP:20260425T034903
CREATED:20251108T195146Z
LAST-MODIFIED:20251230T155739Z
UID:2284-1771599600-1771765200@igb-bayern.de
SUMMARY:LEA-ERZÄHLFIGUREN (FRÜHER EGLI) GESTALTEN UND EINSETZEN
DESCRIPTION:LEA-Erzählfiguren (früher Egli) gestalten und einsetzen \nDie voll beweglichen LEA-Erzählfiguren eignen sich um biblische Texte\, Märchen und andere Geschichten erlebbar zu machen. Sie können auf vielfältige Art und Weise in der Schule\, im Pastoral oder in der Begleitung eingesetzt werden. An diesem Wochenende besteht die Möglichkeit 2 Erzählfiguren selbst herzustellen. Neben den Werkeinheiten gibt es auch Impulse zum Umgang und Einsatzmöglichkeiten der Figuren. \nMitzubringen: Nähzubehör (Schere\, Nähnadel\, Stecknadeln\, Fingerhut)\nNähmaschine (nur falls vorhanden) \nBei Anmeldung (bis Ende Januar) sind die Figurenwünsche anzugeben:\nL = 30 cm / M = 28 cm / S = 26 cm  \nKursleitung: Gertraud Baldauf\,\nTanz- und Ausdrucktherapeutin\nGestaltberaterin (IGB)\,\nNLP-Trainerin (DVNLP)\nLEA-Kursleiterin \nAnmeldung: anmeldung“ät“igb-bayern.de \nKursgebühr: 55\,- Euro (zuzüglich Materialkosten von 50\,-Euro pro Figur direkt im Seminar bezahlen) \nPension: 170\,-VP EZ/DU/WC (164 DZ) \nAnrechenbar mit  12 Vertiefungsstunden \nSeminarzeiten: Freitag 20.02.2026 / 15.00 Uhr bis Sonntag 22.02.2026 / 13.00 Uhr (Sa.\, 9 – 12 und 13.30 – 16.30 Uhr wg. Mitgliederversammlung)
URL:https://igb-bayern.de/kurs/2284/
LOCATION:Haus Werdenfels\, Waldweg 15\, Nittendorf\, 93152\, Deutschland
CATEGORIES:Baustein A
END:VEVENT
BEGIN:VEVENT
DTSTART;TZID=Europe/Berlin:20260220T180000
DTEND;TZID=Europe/Berlin:20260222T130000
DTSTAMP:20260425T034903
CREATED:20251108T194341Z
LAST-MODIFIED:20260213T110651Z
UID:2279-1771610400-1771765200@igb-bayern.de
SUMMARY:Damit Worte berühren können– Kommunikation in Bewegung
DESCRIPTION:Der Kontakt zu unserem Körper ist eine Grundlage für die Kommunikation mit anderen Menschen. Über Mimik\, Gestik\, Körperspannung\, Atemmuster\, Bewegung und Mikrobewegungen drücken wir auch unbewusste innere Zustände aus. \nManchmal sprechen wir\, ohne dabei eine Resonanz in uns selbst zu erzeugen. Die dazugehörigen Gefühle sind abgespalten. Das führt dazu dass wir in unseren Begegnungen unzufrieden und frustriert werden\, ohne zu begreifen\, wie das geschieht. \nIn diesem Seminar machen wir uns mit Achtsamkeit auf den Weg zur Empathie für uns selbst und unser Gegenüber. Über Körperwahrnehmungsübungen\, Ausdrucksarbeit\, Bewegung\, Tanz und der intensiven Beobachtung der eigenen inneren Resonanz auf die gesprochenen Worte\, wenden wir uns dem Kommunikationsprozess zu. Ziel ist es\, sich in der eigenen Haut wohl zu fühlen. \nKursleitung: Gabriela Geß\nTanz-&  Ausdruckstherapeutin\, Heilpraktikerin für Psychotherapie\, Paartherapeutin (EAPT)\nMitzubringen sind: Decke oder Yogamatte\, falls zusätzlich benötigt\, warme Socken\, bequeme Kleidung\, \nAnmeldung: E-Mail: anmeldung@igb-bayern.de \nKursgebühr: 55.- € plus 170\,-VP EZ/DU/WC (164 DZ) Pension\nÜbersicht der Hauskosten bitte anfordern. Danke \nAnrechenbar mit 12 Vertiefungsstunden.  \nSeminarzeiten: Freitag 20.02.2026 / 18.00 Uhr bis Sonntag 22.02.2026 / 13.00 Uhr (Sa.\, 9 – 12 und 13.30 – 16.30 Uhr wg. Mitgliederversammlung)
URL:https://igb-bayern.de/kurs/damit-worte-beruehren-koennen-kommunikation-in-bewegung/
LOCATION:Haus Werdenfels\, Waldweg 15\, Nittendorf\, 93152\, Deutschland
CATEGORIES:Baustein A,Baustein B,Grundkurs
END:VEVENT
END:VCALENDAR