BEGIN:VCALENDAR
VERSION:2.0
PRODID:-//Integrative Gestaltpädagogik - ECPv6.15.17.1//NONSGML v1.0//EN
CALSCALE:GREGORIAN
METHOD:PUBLISH
X-ORIGINAL-URL:https://igb-bayern.de
X-WR-CALDESC:Veranstaltungen für Integrative Gestaltpädagogik
REFRESH-INTERVAL;VALUE=DURATION:PT1H
X-Robots-Tag:noindex
X-PUBLISHED-TTL:PT1H
BEGIN:VTIMEZONE
TZID:Europe/Berlin
BEGIN:DAYLIGHT
TZOFFSETFROM:+0100
TZOFFSETTO:+0200
TZNAME:CEST
DTSTART:20250330T010000
END:DAYLIGHT
BEGIN:STANDARD
TZOFFSETFROM:+0200
TZOFFSETTO:+0100
TZNAME:CET
DTSTART:20251026T010000
END:STANDARD
BEGIN:DAYLIGHT
TZOFFSETFROM:+0100
TZOFFSETTO:+0200
TZNAME:CEST
DTSTART:20260329T010000
END:DAYLIGHT
BEGIN:STANDARD
TZOFFSETFROM:+0200
TZOFFSETTO:+0100
TZNAME:CET
DTSTART:20261025T010000
END:STANDARD
BEGIN:DAYLIGHT
TZOFFSETFROM:+0100
TZOFFSETTO:+0200
TZNAME:CEST
DTSTART:20270328T010000
END:DAYLIGHT
BEGIN:STANDARD
TZOFFSETFROM:+0200
TZOFFSETTO:+0100
TZNAME:CET
DTSTART:20271031T010000
END:STANDARD
END:VTIMEZONE
BEGIN:VEVENT
DTSTART;TZID=Europe/Berlin:20260320T150000
DTEND;TZID=Europe/Berlin:20260321T170000
DTSTAMP:20260425T001825
CREATED:20250731T153651Z
LAST-MODIFIED:20251021T141529Z
UID:2096-1774018800-1774112400@igb-bayern.de
SUMMARY:„Thron der Seele- die Begegnung mit der Königin\, dem König in Dir“
DESCRIPTION:Belebendes Dranbleibseminar zum Eintauchen in die Gestaltpädagogik \n„Thron der Seele- die Begegnung mit der Königin\, dem König in Dir“ \nDas bringst du mit:\neine Quelle der Freude und/ oder der Lebenskraft aus deinem Alltag (ob ein Gegenstand\, ein Bild\, ein Wort\, …)\nWachsmalkreiden\nbequeme Kleidung\nSchere\, Kleber\nOffenheit und Vorfreude \nDie Gestalt-Tage laden Menschen dazu ein\, das Leben in den Blick zu nehmen und in Kontakt mit sich selbst\, den Erfahrungen der anderen TeilnehmerInnen und der christlichen Dimension zu kommen. Elemente aus der Gestaltpädagogik\, kreatives Gestalten\, Bewegung und Tanz machen persönliche Anteile erlebbar. \nZeitplan:\nFreitag\n15.00 Uhr Kaffee zum Ankommen\, Zimmer beziehen\n16.00 – 17.45 Uhr 1. Arbeitseinheit\n18.00 Uhr Abendessen\n19.15 – ca. 21.30 Uhr: 2. Arbeitseinheit\nSamstag\nFrühstück 08.00-09.00 Uhr\n9.15 – 11.45 Uhr: 3. Arbeitseinheit (ca. 10.30 Uhr Stehkaffee)\nMittagessen 12.00 – 13.00 Uhr\n13.30 – 15.00 Uhr: 3. Arbeitseinheit\n15.00 – 15.30 Uhr Nachmittagskaffee\n15.30- ca. 17.00Uhr: Abschlusseinheit \nReferentin:\nPetra Staiger\nIntegrative Tanztherapeutin (DGT) Gestalttrainerin cand. (IGB)\nNLP Practiitioner (DVNLP) Sysemischer Coach \nAnmeldung:\nJulitta Burdack \njulittaubrdack@gmx.de
URL:https://igb-bayern.de/kurs/sprudelwohl-und-gottverbunden/
LOCATION:Würzburg – Marienhöhe\, Würzburg
CATEGORIES:Baustein A,Baustein B
END:VEVENT
END:VCALENDAR