BEGIN:VCALENDAR
VERSION:2.0
PRODID:-//Integrative Gestaltpädagogik - ECPv6.15.17.1//NONSGML v1.0//EN
CALSCALE:GREGORIAN
METHOD:PUBLISH
X-ORIGINAL-URL:https://igb-bayern.de
X-WR-CALDESC:Veranstaltungen für Integrative Gestaltpädagogik
REFRESH-INTERVAL;VALUE=DURATION:PT1H
X-Robots-Tag:noindex
X-PUBLISHED-TTL:PT1H
BEGIN:VTIMEZONE
TZID:Europe/Berlin
BEGIN:DAYLIGHT
TZOFFSETFROM:+0100
TZOFFSETTO:+0200
TZNAME:CEST
DTSTART:20250330T010000
END:DAYLIGHT
BEGIN:STANDARD
TZOFFSETFROM:+0200
TZOFFSETTO:+0100
TZNAME:CET
DTSTART:20251026T010000
END:STANDARD
BEGIN:DAYLIGHT
TZOFFSETFROM:+0100
TZOFFSETTO:+0200
TZNAME:CEST
DTSTART:20260329T010000
END:DAYLIGHT
BEGIN:STANDARD
TZOFFSETFROM:+0200
TZOFFSETTO:+0100
TZNAME:CET
DTSTART:20261025T010000
END:STANDARD
BEGIN:DAYLIGHT
TZOFFSETFROM:+0100
TZOFFSETTO:+0200
TZNAME:CEST
DTSTART:20270328T010000
END:DAYLIGHT
BEGIN:STANDARD
TZOFFSETFROM:+0200
TZOFFSETTO:+0100
TZNAME:CET
DTSTART:20271031T010000
END:STANDARD
END:VTIMEZONE
BEGIN:VEVENT
DTSTART;TZID=Europe/Berlin:20260622T160000
DTEND;TZID=Europe/Berlin:20260625T130000
DTSTAMP:20260425T014301
CREATED:20251025T103640Z
LAST-MODIFIED:20260420T063349Z
UID:2266-1782144000-1782392400@igb-bayern.de
SUMMARY:Gestaltschnupperkurs bei Dresden-Dem Leben auf die Spur kommen
DESCRIPTION:Gestaltschnupperkurs bei Dresden-Dem Leben auf die Spur kommen \nTermine: 22.-25.06.26 \nDem Leben auf die Spur kommen: Was macht dich lebendig\, richtet dich auf\, stärkt dich? Dich beschenken lassen von neuer Lebensfreude und -energie und andere beschenken. Das ist eine der vielen Facetten von der Gestaltpädagogik. \,Erlösung muss erfahrbar sein“\, meint Prof. Dr. Albert Höfer\, Begründer der integrativen Gestaltpädagogik und heilenden Seelsorge. Aus diesem Grund beginnen die Kurse mit Selbsterfahrung\, bevor Reflektion und Lerninput folgen. Kosten: 216 € Kursgebühr zzgl. Übernachtungs- und Verpflegungskosten und 20 € Tagungspauschale. Diese Maßnahme wird mitfinanziert durch Steuermittel auf der Grundlage des von den Abgeordneten des Sächsischen Landtags beschlossenen Haushaltes. Die Veranstaltung findet in Kooperation mit der EEB Sachsen statt. \nDie Buchung erfolgt nur als Einheit. \nFolgende Kurse sind verbindlich: 12.-16.10.2026 Modul 2; 05.-08.04.2027 Modul 3; 19.-23.07.2027 Modul 4; 11.-15.10.2027 Modul 5; 24.-27.04.2028 Modul 6; 31.07.-04.08.2028 Modul 7; 23.-27.10.2028 Modul 8. Die verbindliche Anmeldung erfolgt nach dem Schnupperkurs. \nDas Trainerteam besteht aus Gerhard Gigler und Anett Sprinz \nhttps://tpi-moritzburg.de
URL:https://igb-bayern.de/kurs/gestaltschnupperkurs-bei-dresden-dem-leben-auf-die-spur-kommen-3/
LOCATION:Theologisch Pädagogisches Institut\, Bahnhofstr. 9\, 01468 Moritzburg\, Sachsen
CATEGORIES:Baustein A,Grundkurs
ORGANIZER;CN="Theologisch-P%C3%A4dagogische Institut (TPI)":MAILTO:info.tpi-moritzburg@evlks.de
END:VEVENT
END:VCALENDAR