BEGIN:VCALENDAR
VERSION:2.0
PRODID:-//Integrative Gestaltpädagogik - ECPv6.15.17.1//NONSGML v1.0//EN
CALSCALE:GREGORIAN
METHOD:PUBLISH
X-WR-CALNAME:Integrative Gestaltpädagogik
X-ORIGINAL-URL:https://igb-bayern.de
X-WR-CALDESC:Veranstaltungen für Integrative Gestaltpädagogik
REFRESH-INTERVAL;VALUE=DURATION:PT1H
X-Robots-Tag:noindex
X-PUBLISHED-TTL:PT1H
BEGIN:VTIMEZONE
TZID:Europe/Berlin
BEGIN:DAYLIGHT
TZOFFSETFROM:+0100
TZOFFSETTO:+0200
TZNAME:CEST
DTSTART:20250330T010000
END:DAYLIGHT
BEGIN:STANDARD
TZOFFSETFROM:+0200
TZOFFSETTO:+0100
TZNAME:CET
DTSTART:20251026T010000
END:STANDARD
BEGIN:DAYLIGHT
TZOFFSETFROM:+0100
TZOFFSETTO:+0200
TZNAME:CEST
DTSTART:20260329T010000
END:DAYLIGHT
BEGIN:STANDARD
TZOFFSETFROM:+0200
TZOFFSETTO:+0100
TZNAME:CET
DTSTART:20261025T010000
END:STANDARD
BEGIN:DAYLIGHT
TZOFFSETFROM:+0100
TZOFFSETTO:+0200
TZNAME:CEST
DTSTART:20270328T010000
END:DAYLIGHT
BEGIN:STANDARD
TZOFFSETFROM:+0200
TZOFFSETTO:+0100
TZNAME:CET
DTSTART:20271031T010000
END:STANDARD
END:VTIMEZONE
BEGIN:VEVENT
DTSTART;TZID=Europe/Berlin:20260706T153000
DTEND;TZID=Europe/Berlin:20260710T130000
DTSTAMP:20260425T032126
CREATED:20260315T173331Z
LAST-MODIFIED:20260324T194405Z
UID:2524-1783351800-1783688400@igb-bayern.de
SUMMARY:So stimmt’s.
DESCRIPTION:Eine Einführung in das (Märchen-)Erzählen \nMontag\, 06. Juli 2026 *15.30 Uhr bis Freitag 10. Juli 2026 * 13.00 Uhr \nErzählen ist einfach und eine Kunst zugleich. \n\nEinfach\, weil wir alle das Instrument Sprache im Grunde beherrschen.\nEine Kunst\, weil wir dieses Instrument oft nur sehr begrenzt nutzen. Und eine Kunst\, weil gutes Erzählen Menschen mitnimmt auf einen gemeinsamen Weg.\n\nEs ist so bildhaft\, dass Menschen innere Bilder sehen – Kopfkino\, sagt man heute oft.\nEs ist so ermutigend\, dass Menschen nach dem Erzählen etwas mehr Lust aufs Leben haben.\nIn unserem Kurs soll ganz viel praktisch geübt werden. Dazu kommen „theoretische“ Hinweise zu dem\, was Märchen sind und sollen.\nWir wollen unsere Stimmen erproben und auskosten.\nUnd auch\, wer gar nicht Märchen erzählen will\, sondern vielleicht biblische Texte vorliest oder Vorträge zu ganz anderen Themen hält\, mag dabei hilfreiche Anregungen bekommen. \nKursgebühr: 260\,00 € – Pension: 330\,00 € im EZ mit Du/WC –  318\,00 € im EZ mit Etagendusche \nAnrechenbar für IGB-Mitglieder mit 15 Vertiefungsstunden \nWaldweg 15 · 93152 Nittendorf\nTelefon 09404 9502-20\nanmeldung@haus-werdenfels.de\nwww.haus-werdenfels.de \nKursleitung:\nDr. Heinrich Dickerhoff\nTheologe und Märchenerzähler\nCloppenburg\nSr. Magdalena Morgenstern\nExerzitienbegleiterin\nGestalt-pädagogin\nLogotherapeutin\nReferentin in Haus Werdenfels
URL:https://igb-bayern.de/kurs/so-stimmts/
LOCATION:Haus Werdenfels\, Waldweg 15\, Nittendorf\, 93152\, Deutschland
CATEGORIES:Baustein A,Baustein B,Grundkurs
ORGANIZER;CN="Haus Werdenfels":MAILTO:libon@Haus-Werdenfels.de
END:VEVENT
END:VCALENDAR