BEGIN:VCALENDAR
VERSION:2.0
PRODID:-//Integrative Gestaltpädagogik - ECPv6.15.17.1//NONSGML v1.0//EN
CALSCALE:GREGORIAN
METHOD:PUBLISH
X-ORIGINAL-URL:https://igb-bayern.de
X-WR-CALDESC:Veranstaltungen für Integrative Gestaltpädagogik
REFRESH-INTERVAL;VALUE=DURATION:PT1H
X-Robots-Tag:noindex
X-PUBLISHED-TTL:PT1H
BEGIN:VTIMEZONE
TZID:Europe/Berlin
BEGIN:DAYLIGHT
TZOFFSETFROM:+0100
TZOFFSETTO:+0200
TZNAME:CEST
DTSTART:20250330T010000
END:DAYLIGHT
BEGIN:STANDARD
TZOFFSETFROM:+0200
TZOFFSETTO:+0100
TZNAME:CET
DTSTART:20251026T010000
END:STANDARD
BEGIN:DAYLIGHT
TZOFFSETFROM:+0100
TZOFFSETTO:+0200
TZNAME:CEST
DTSTART:20260329T010000
END:DAYLIGHT
BEGIN:STANDARD
TZOFFSETFROM:+0200
TZOFFSETTO:+0100
TZNAME:CET
DTSTART:20261025T010000
END:STANDARD
BEGIN:DAYLIGHT
TZOFFSETFROM:+0100
TZOFFSETTO:+0200
TZNAME:CEST
DTSTART:20270328T010000
END:DAYLIGHT
BEGIN:STANDARD
TZOFFSETFROM:+0200
TZOFFSETTO:+0100
TZNAME:CET
DTSTART:20271031T010000
END:STANDARD
END:VTIMEZONE
BEGIN:VEVENT
DTSTART;TZID=Europe/Berlin:20260731T180000
DTEND;TZID=Europe/Berlin:20260802T130000
DTSTAMP:20260425T032921
CREATED:20250108T192002Z
LAST-MODIFIED:20251019T193707Z
UID:1751-1785520800-1785675600@igb-bayern.de
SUMMARY:"BE YOU"
DESCRIPTION:31.07.2026 18:00 Uhr bis 02.08. 2026 13:00 Uhr \nErforsche Quellen in Dir um voll Freude und Kraft Dein Frau sein zu leben. Archetypenarbeit ist ein stärkender Weg um mit Deinen Persönlichkeitsanteilen in Kontakt zu kommen. Archetypen sind Urbilder des kollektiven Unbewussten (C.G. Jung)\, die wirkmächtiges energetisches Potential in sich tragen\, Ressourcen in Dir wecken\, entfalten und neue Entwürfe ermöglichen. Du wirst Dich in Visualisierung\, in Klängen\, Atmung und Bewegung darauf fokussieren und im Fliessen der Energie wird Transformation möglich. In diesem Seminar erkundest  Du die Urkraft der Liebenden und der Magierin in Dir und erforschst den Stand in Deinen Systemfeldern. Sie werden zu Begleiterinnen in Deinem Alltag. Sei neugierig auf Dich selbst. \nDas Seminar ist mit 12 Vertiefungsstunden (à 45 Minuten)\, die als Nachweis der Reflexion der gestaltpädagogischen Praxis in Regionalgruppen\, Dranbleibseminaren oder Supervisionsseminaren aus dem Angebot der Gestaltvereine verlangt werden\, anerkannt. \nMaterial:\n\nBitte mitbringen: Wachsmalkreiden\, Filzstifte\, Din A 2 Papier \nKursleitung: Petra Staiger\, Integrative Tanztherapeutin (DGT®)\, Integrative Gestalttrainerin (IGB)\, Dipl.-Sozialpäd. (FH)\, Referentin für sakralen Tanz \nKosten: 273\,-Euro (Übernachtung\, Verpflegung & Kursgebühr im Haus Johannisthal) \nSchwerpunkte: Gestaltarbeit\, Stille\, Tanz- bei trockenem Wetter an der Natur\n\n\n\nOrt und Anmeldung: Haus Johannisthal\, Johannisthal 1\, 92670 Windischeschenbach\, Telefon: +49 (0)96 81 – 4 00 15-0\nE-Mail: kontakt@haus-johannisthal.de \n\n\n\n\n\nWeitere Informationen: Anrechenbar für Mitglieder des IGB mit 12 Vertiefungsstunden\, die als Nachweis der Reflexion der gestaltpädagogischen Praxis gelten.
URL:https://igb-bayern.de/kurs/be-you/
LOCATION:Haus Johannisthal\, Johannisthal 1\, 92670 Windischeschenbach\, Johannisthal 1\, Windischeschenbach\, 92670\, Deutschland
CATEGORIES:Grundkurs,Seminare
ORGANIZER;CN="Haus Johannisthal":MAILTO:kontakt@haus-johannisthal.de
END:VEVENT
END:VCALENDAR