BEGIN:VCALENDAR
VERSION:2.0
PRODID:-//Integrative Gestaltpädagogik - ECPv6.15.17.1//NONSGML v1.0//EN
CALSCALE:GREGORIAN
METHOD:PUBLISH
X-WR-CALNAME:Integrative Gestaltpädagogik
X-ORIGINAL-URL:https://igb-bayern.de
X-WR-CALDESC:Veranstaltungen für Integrative Gestaltpädagogik
REFRESH-INTERVAL;VALUE=DURATION:PT1H
X-Robots-Tag:noindex
X-PUBLISHED-TTL:PT1H
BEGIN:VTIMEZONE
TZID:Europe/Berlin
BEGIN:DAYLIGHT
TZOFFSETFROM:+0100
TZOFFSETTO:+0200
TZNAME:CEST
DTSTART:20260329T010000
END:DAYLIGHT
BEGIN:STANDARD
TZOFFSETFROM:+0200
TZOFFSETTO:+0100
TZNAME:CET
DTSTART:20261025T010000
END:STANDARD
BEGIN:DAYLIGHT
TZOFFSETFROM:+0100
TZOFFSETTO:+0200
TZNAME:CEST
DTSTART:20270328T010000
END:DAYLIGHT
BEGIN:STANDARD
TZOFFSETFROM:+0200
TZOFFSETTO:+0100
TZNAME:CET
DTSTART:20271031T010000
END:STANDARD
BEGIN:DAYLIGHT
TZOFFSETFROM:+0100
TZOFFSETTO:+0200
TZNAME:CEST
DTSTART:20280326T010000
END:DAYLIGHT
BEGIN:STANDARD
TZOFFSETFROM:+0200
TZOFFSETTO:+0100
TZNAME:CET
DTSTART:20281029T010000
END:STANDARD
END:VTIMEZONE
BEGIN:VEVENT
DTSTART;TZID=Europe/Berlin:20270201T153000
DTEND;TZID=Europe/Berlin:20270205T130000
DTSTAMP:20260425T165449
CREATED:20260317T190454Z
LAST-MODIFIED:20260324T193712Z
UID:2543-1801495800-1801832400@igb-bayern.de
SUMMARY:Bibel getanzt: erfahren – reflektieren - üben
DESCRIPTION:Montag\, 01. Februar 2027 * 15.30 Uhr bis Freitag\, 05. Februar 2027 * 13.00 Uhr \nBibel getanzt ist ein Weg\, \n\nder von einem biblischen Text ausgeht\,\nder durch Bewegung und eine wache Körperpräsenz in die Begegnung mit Gott führt\,\nauf dem ich Schritt für Schritt erlebe\, dass ich bin.\n\nTanz und Gebärde werden heute als spirituelle Wege wieder neu entdeckt. Die Gebärde als Urform der Sprache ist so alt wie die Menschheit\, das Gleiche gilt für den Tanz.\nFür viele Menschen heute wird der Tanz mit seinem Symbolerleben zum Tor für eine tiefere Gottesbeziehung.\nTanzend wenden wir uns dem Geheimnis der Hl. Schrift zu. Wir entdecken dabei\, was ihre Botschaft für die Einzelnen ganz persönlich ist.\nTänze entstanden und entstehen aus Liebe zum Leben. Sie öffnen den Menschen für das Leben und somit für Gott!\nWenn wir „die Bibel tanzen“\, nähern wir uns dem Inhalt der Hl. Schrift durch Gebärden und Tanzschritte.\nWie das geschieht\, wollen wir in diesem Seminar erfahren\, reflektieren und üben. \nKursgebühr: 260\,00 € – Pension: 330\,00 € EZ mit Du/WC \nAnrechenbar für IGB-Mitglieder mit 15 Vertiefungsstunden \nKursleitung:\nMichaela Pfaffenbichler\nTanzleiterin „Bibel getanzt“ \n Sr. Magdalena Morgenstern\nExerzitienbegleiterin\, Logotherapeutin\, Gestaltpädagogin IGB Haus Werdenfels  \nWaldweg 15 · 93152 Nittendorf\nTelefon 09404 9502-20\nanmeldung@haus-werdenfels.de\nwww.haus-werdenfels.de
URL:https://igb-bayern.de/kurs/bibel-getanzt-erfahren-reflektieren-ueben/
LOCATION:Haus Werdenfels\, Waldweg 15\, Nittendorf\, 93152\, Deutschland
CATEGORIES:Baustein A,Grundkurs,Seminare
ORGANIZER;CN="Haus Werdenfels":MAILTO:libon@Haus-Werdenfels.de
END:VEVENT
END:VCALENDAR