BEGIN:VCALENDAR
VERSION:2.0
PRODID:-//Integrative Gestaltpädagogik - ECPv6.15.17.1//NONSGML v1.0//EN
CALSCALE:GREGORIAN
METHOD:PUBLISH
X-ORIGINAL-URL:https://igb-bayern.de
X-WR-CALDESC:Veranstaltungen für Integrative Gestaltpädagogik
REFRESH-INTERVAL;VALUE=DURATION:PT1H
X-Robots-Tag:noindex
X-PUBLISHED-TTL:PT1H
BEGIN:VTIMEZONE
TZID:Europe/Berlin
BEGIN:DAYLIGHT
TZOFFSETFROM:+0100
TZOFFSETTO:+0200
TZNAME:CEST
DTSTART:20250330T010000
END:DAYLIGHT
BEGIN:STANDARD
TZOFFSETFROM:+0200
TZOFFSETTO:+0100
TZNAME:CET
DTSTART:20251026T010000
END:STANDARD
BEGIN:DAYLIGHT
TZOFFSETFROM:+0100
TZOFFSETTO:+0200
TZNAME:CEST
DTSTART:20260329T010000
END:DAYLIGHT
BEGIN:STANDARD
TZOFFSETFROM:+0200
TZOFFSETTO:+0100
TZNAME:CET
DTSTART:20261025T010000
END:STANDARD
BEGIN:DAYLIGHT
TZOFFSETFROM:+0100
TZOFFSETTO:+0200
TZNAME:CEST
DTSTART:20270328T010000
END:DAYLIGHT
BEGIN:STANDARD
TZOFFSETFROM:+0200
TZOFFSETTO:+0100
TZNAME:CET
DTSTART:20271031T010000
END:STANDARD
END:VTIMEZONE
BEGIN:VEVENT
DTSTART;TZID=Europe/Berlin:20260424T180000
DTEND;TZID=Europe/Berlin:20260426T130000
DTSTAMP:20260424T174155
CREATED:20250226T104643Z
LAST-MODIFIED:20260320T143246Z
UID:1905-1777053600-1777208400@igb-bayern.de
SUMMARY:Paarwochenende-Der Liebe einen Rahmen geben
DESCRIPTION:Fr.\, 24.- So.\, 26.04.26 \n\n\n\n\nDer Liebe einen Rahmen geben – Wochenende für Paare mit Frau Kathrin Karban-Völkl und weitere\n\n\n\n\n\n\n\n\n\n\n\n\nBeschreibung\nImpulse für das Leben als Paar\, Auszeit zu zweit\, Zeit für sich\, gemeinsames Feiern\, Gottesdienst\, Austausch in der Gruppe\, Ruhe\, Erholung und gutes Essen\nWo stehen wir als Paar und wie sind wir miteinander unterwegs? Gemeinsam gehen wir diesen Fragen nach\, um das Leben zu zweit anzuschauen und den gemeinsamen Alltag weiter zu gestalten.Unsere Themen am Wochenende\n• Ankommen und zusammenfinden\n• Gemeinsam unterwegs sein\n• Unserem Leben einen Rahmen geben\n• Gott einen Platz in unserem Rahmen geben\n• Miteinander weitergehen\n\n\nMaterial\nEin Symbol aus dem Alltag\, welches für  das Paar eine positive Bedeutung hat (z.B. der Haustürschlüssel\, ein Lieblingskissen\, das Rezept für ein gemeinsames Lieblingsessen\,…)\n\n\nPreise\nPension: 143\,00 €\nKursgebühr: 60\,00 €\n\n\nSchwerpunkte\nZeit zu zweit & alleine\, gemeinsames Feiern\, Gottesdienst\, Austausch in der Gruppe\, Kreatives Tun\n\n\n\nKursleitung: Dagmar Binner\, Martina Kohl\, Kathrin Karban-Völkl \nDie Referentinnen sind alle Gestaltpädagoginnen und in unterschiedlichen Berufsfeldern tätig. \n\nHaus Johannisthal\, Johannisthal 1\,92670 Windischeschenbach\n\nTelefon: +49 (0)96 81 – 4 00 15-0 Telefax: +49 (0)96 81 – 4 00 15-10\nE-Mail: kontakt@haus-johannisthal.de \nhttps://www.haus-johannisthal.de \nNächstes Paarwochenende: Termin für 2027: Fr.\, 12.- So.\, 14.03.27
URL:https://igb-bayern.de/kurs/paarwochenende/
LOCATION:Haus Johannisthal\, Johannisthal 1\, 92670 Windischeschenbach\, Johannisthal 1\, Windischeschenbach\, 92670\, Deutschland
CATEGORIES:Seminare
ORGANIZER;CN="Haus Johannisthal":MAILTO:kontakt@haus-johannisthal.de
END:VEVENT
BEGIN:VEVENT
DTSTART;TZID=Europe/Berlin:20260424T180000
DTEND;TZID=Europe/Berlin:20260426T130000
DTSTAMP:20260424T174155
CREATED:20251114T070021Z
LAST-MODIFIED:20251114T070052Z
UID:2327-1777053600-1777208400@igb-bayern.de
SUMMARY:„Leben in Fülle – erfülltes Leben“
DESCRIPTION:„Leben in Fülle – erfülltes Leben“ Soulcollage \nFreitag 24. April 2026 * 18.00 Uhr bis Sonntag 26. April 2026 * 13.00 Uhr \nLassen Sie uns an diesem Wochenende auf Entdeckungsreise gehen. Wir wollen uns mit den Quellen verbinden\, aus deren Fülle wir leben und unsere vorhandenen Schätze in den Blick nehmen. Mit der kreativen Methode SoulCollage® entstehen kleine Bilder\, die uns tiefer in das Thema eintauchen lassen. Austausch und Begegnung bereichern die Tage. Meditative Tänze umrahmen die Einheiten und lassen uns  bei uns selbst ankommen. Freuen Sie sich auf eine Zeit für sich und lassen Sie sich überraschen von dem was entstehen möchte. \nKursleitung: Frau Gertraud Baldauf\, Tanz- und Ausdruckstherapeutin (Wendepunkt); Gestaltberaterin (IGB); NLP-Trainer (DVNLP); Heilpraktikerin für Psychotherapie SoulCollage®-Facilitatorin;  Kursleiterin für LEA-Figuren \nKursgebühr: 100\,00 € Pension: 145\,00 € im EZ mit DU/WC; 135\,00 € im EZ mit Etagendusche \nAnrechenbar für IGB-Mitglieder mit 12 Vertiefngsstunden \nWaldweg 15 · 93152 Nittendorf\nTelefon 09404 9502-20\nanmeldung@haus-werdenfels.de\nwww.haus-werdenfels.de
URL:https://igb-bayern.de/kurs/leben-in-fuelle-erfuelltes-leben/
LOCATION:Haus Werdenfels\, Waldweg 15\, Nittendorf\, 93152\, Deutschland
CATEGORIES:Baustein A,Baustein B
ORGANIZER;CN="Haus Werdenfels":MAILTO:libon@Haus-Werdenfels.de
END:VEVENT
END:VCALENDAR