BEGIN:VCALENDAR
VERSION:2.0
PRODID:-//Integrative Gestaltpädagogik - ECPv6.15.17.1//NONSGML v1.0//EN
CALSCALE:GREGORIAN
METHOD:PUBLISH
X-WR-CALNAME:Integrative Gestaltpädagogik
X-ORIGINAL-URL:https://igb-bayern.de
X-WR-CALDESC:Veranstaltungen für Integrative Gestaltpädagogik
REFRESH-INTERVAL;VALUE=DURATION:PT1H
X-Robots-Tag:noindex
X-PUBLISHED-TTL:PT1H
BEGIN:VTIMEZONE
TZID:Europe/Berlin
BEGIN:DAYLIGHT
TZOFFSETFROM:+0100
TZOFFSETTO:+0200
TZNAME:CEST
DTSTART:20250330T010000
END:DAYLIGHT
BEGIN:STANDARD
TZOFFSETFROM:+0200
TZOFFSETTO:+0100
TZNAME:CET
DTSTART:20251026T010000
END:STANDARD
BEGIN:DAYLIGHT
TZOFFSETFROM:+0100
TZOFFSETTO:+0200
TZNAME:CEST
DTSTART:20260329T010000
END:DAYLIGHT
BEGIN:STANDARD
TZOFFSETFROM:+0200
TZOFFSETTO:+0100
TZNAME:CET
DTSTART:20261025T010000
END:STANDARD
BEGIN:DAYLIGHT
TZOFFSETFROM:+0100
TZOFFSETTO:+0200
TZNAME:CEST
DTSTART:20270328T010000
END:DAYLIGHT
BEGIN:STANDARD
TZOFFSETFROM:+0200
TZOFFSETTO:+0100
TZNAME:CET
DTSTART:20271031T010000
END:STANDARD
BEGIN:DAYLIGHT
TZOFFSETFROM:+0100
TZOFFSETTO:+0200
TZNAME:CEST
DTSTART:20280326T010000
END:DAYLIGHT
BEGIN:STANDARD
TZOFFSETFROM:+0200
TZOFFSETTO:+0100
TZNAME:CET
DTSTART:20281029T010000
END:STANDARD
END:VTIMEZONE
BEGIN:VEVENT
DTSTART;TZID=Europe/Berlin:20261002T180000
DTEND;TZID=Europe/Berlin:20261004T130000
DTSTAMP:20260424T175025
CREATED:20260421T105900Z
LAST-MODIFIED:20260421T111122Z
UID:2612-1790964000-1791118800@igb-bayern.de
SUMMARY:Schreib(t)räume - innere und äußere Räume erschließen
DESCRIPTION:Schreib(t)räume – innere und äußere Räume erschließen \nVom Fr.\, 2.10. bis So.\, 4.10.2026 \nIm Seminar unterstützt und begleitet Sie: Mechthild Messer | Gestaltpädagogin (IGB)\, Referentin für\nBiografie-Arbeit\, www.beruf-und-biografie.de \nSchreib(t)räume -innere und äußere Räume erschließen Schreiben – Genießen – Durchatmen Ein weiter Horizont\, ein weiter Raum\, Gedanken können\nsich ordnen. In dieser Weite öffnen sich Zugänge – zu inneren Räumen voller Erinnerungen\, Bildern und Träumen ebenso wie zu äußeren Räumen der Wahrnehmung und zu Zwischenräumen des Staunens. Schreibend entdecken Sie Ihre eigenen Lebens(t)räume: Räume des gelebten\nLebens\, Räume der Begegnung im Jetzt und jene der Wandlung und des Neubeginns.\nSie erleben\, wie Worte Wege bahnen – von der Erinnerung über das Jetzt hin zu dem\, was sich neu entfalten will. Wahrnehmungs- und chtsamkeitsübungen unterstützen das Schreiben\, lassen Bilder entstehen\, Gedanken fließen und Fantasie aufleben. Inspiriert von Methoden aus der Poesietherapie und\nBiografiearbeit entstehen kleine Geschichten\, poetische Miniaturen\, Momentaufnahmen und andere kreative Texte. Zeiten der Stille und Bewegung\, des Schreibens und des Austauschs wechseln sich in wohltuender Balance ab. Das Spiel mit Worten\, Texten und Sprache und die Reflexion Ihrer Geschichten wecken die Schreiblust\, eröffnen neue Perspektiven\, stärken die Lebenskraft und bringen zugleich Entspannung. Die Ammerseehäuser in Dießen mit ihrem Blick auf den See\, der Nähe zur Natur und der Atmosphäre der Stille bieten den idealen Rahmen\, um zur Ruhe zu kommen\, die Seele baumeln zu lassen und neue Perspektiven zu gewinnen. So entsteht Raum für Kreativität\, Selbstwahrnehmung und Freude am Ausdruck \nIm Seminar unterstützt und begleitet Sie: Mechthild Messer | Gestaltpädagogin (IGB)\, Referentin für\nBiografie-Arbeit\, www.beruf-und-biografie.de \nSeminar: 195\,- Euro plus Hauskosten \nOrt: Christliche Gästezentrum Ammerseehäuser\, Ringstr. 29\,\n86911 Dießen am Ammersee\, www.ammerseehaeuser.de \nAnmeldung über angehängten Flyer. \nVeranstalter: evang. stadtakademie nürnberg\nSusanne-Katrin Heyer\, Studienleiterin\nBurgstr. 1-3\, 90403 Nürnberg\ntel: (09 11) 2 14-21 21\nstadtakademie.nuernberg@elkb.de\nwww.evangelische-stadtakademie-nuernberg.de
URL:https://igb-bayern.de/kurs/schreibtraeume-innere-und-aeussere-raeume-erschliessen/
LOCATION:86911 Dießen am Ammersee
CATEGORIES:Seminare
END:VEVENT
BEGIN:VEVENT
DTSTART;TZID=Europe/Berlin:20261012T153000
DTEND;TZID=Europe/Berlin:20261016T130000
DTSTAMP:20260424T175025
CREATED:20240420T072258Z
LAST-MODIFIED:20260320T142848Z
UID:1364-1791819000-1792155600@igb-bayern.de
SUMMARY:Bibliodrama-Geh einher vor meinem Antlitz! Sei ganz! Gen 17\,1 nach Bubers Übersetzung
DESCRIPTION:Bibliodrama-Geh einher vor meinem Antlitz! Sei ganz! Gen 17\,1 nach Bubers Übersetzung\n\n\n\nKontakt:\nKatharina Libon\, Bildungsreferentin\, Haus Werdenfels Mail libon@haus-werdenfels.de\nKursinhalte: Bibliodrama – ein intensiver Weg ganzheitlicher Bibelarbeit \nGeh einher vor meinem Antlitz! Sei ganz! Gen 17\,1 nach Bubers Übersetzung \nWählen Sie einen Bibliodramakurs: \n\nMo\, 12.10.26 *15.30 – Fr\, 16.10.26 *13.00\n\nBeim Bibliodrama geht es darum\, \n• das Wort Gottes “Fleisch werden” zu lassen\, \n• sich einzulassen auf die Pendelbewegung “vom Leben zur Bibel\, von der Bibel zum Leben”\, \n• in Bewegung zu kommen – zu sich selber\, – aufeinander zu\, – zu Gott hin\, \n• die befreiende Botschaft und heilende Dimension biblischer Erzählungen durch gemeinsames Erleben in der Gruppe neu zu entdecken\, \n• sich in Selbsterfahrung und geistlichem Austausch dem schöpferischen Prozess zu stellen\, neue Einsichten zu gewinnen und Neues zu wagen. \nDieses Bibliodrama-Seminar kann als “Schnupperkurs” für den Grundkurs “Integrative Gestaltpädagogik und heilende Seelsorge” angerechnet werden\, der nach insgesamt acht Einheiten endet. \nGenaue Ausschreibung und Termine können angefordert werden. \n\nKursleitung: Christine Seufert\, Pastoralreferentin\, Gestalttrainerin (IGB)\, Supervisorin (GPS)\, Lehrtrainerin (DVNLP & ECA)\, Lehrcoach (DVNLP & ECA)\, wingwave®-Coach\, NSC®-Coach\, Hypno-Coach (INTAKA) \n  \nKursgebühr 200.-€ Plus Pension (EZ m. DU/WC) 4 Tage \nAuskunft und Anmeldung: Haus Werdenfels\, Waldweg 15D-93152 Nittendorf Tel: 09404 / 9502-0 \nE-Mail: libon@haus-werdenfels.de \nhttps://haus-werdenfels.de \nOrt:\nHaus Werdenfels\, Waldweg 15\, D-93152 Nittendorf
URL:https://igb-bayern.de/kurs/bibliodrama-geh-einher-vor-meinem-antlitz-sei-ganz-gen-171-nach-bubers-uebersetzung-4/
LOCATION:Haus Werdenfels\, Waldweg 15\, Nittendorf\, 93152\, Deutschland
CATEGORIES:Baustein A,Bibliodrama,Grundkurs,Schnupperkurs
ORGANIZER;CN="Haus Werdenfels":MAILTO:libon@Haus-Werdenfels.de
END:VEVENT
BEGIN:VEVENT
DTSTART;TZID=Europe/Berlin:20261102T150000
DTEND;TZID=Europe/Berlin:20261106T130000
DTSTAMP:20260424T175025
CREATED:20260315T171418Z
LAST-MODIFIED:20260324T194232Z
UID:2519-1793631600-1793970000@igb-bayern.de
SUMMARY:Elemente des Lebens: die evangelischen Räte - Elemente des Glaubens: Feuer\, Wasser\, Erde\, Luft
DESCRIPTION:Geistliche Bildungstage im Franziskus-Jahr  \nMontag\, 02. November 2026 *15.00 Uhr – Freitag\, 06. November 2026 \nDas Leben ist weder eintönig noch eindeutig.  Es entsteht und vergeht im Zusammenspiel unterschiedlicher Kräfte. Diese Erfahrung führte vor langer Zeit zur Lehre von den vier Elementen Feuer\, Wasser\, Erde und Luft\, aus denen die Welt zusammengesetzt sei. Auch wenn diese Theorie naturwissenschaftlich überholt ist\, spiegelt sie doch menschliches Lebenswissen. Das Leben kann wie Feuer sein und wie Wasser\, wie Erde und wie Luft. Und da lebendiger Glaube immer mit dem Leben verwoben ist\, finden wir auch dort unterschiedliche Elemente. \nBei unserer Spurensuche nach Elementen unseres Lebens und Glaubens folgen wir zwei Wegweisern. An den Vormittagen nimmt uns Franz von Assisi mit auf einen Weg zu Lebens- und Glaubenselementen\, die er in den „evangelischen Räten“ entdeckte: Armut\, Gehorsam\, Ehelosigkeit oder Keuschheit. An den Nachmittagen lassen wir uns inspirieren von einer biblischen Elementenlehre. \nDurchwandern Sie mit uns Erfahrungen des Lebens und Glaubens: fruchtbare Erdenschwere und abgrundtiefes Lebenswasser\, verwandelndes Feuer und luftige Höhen des Lebens und Glaubens. \nKursgebühr:   240\,00 €  – Pension:  320\,00 € im EZ mit Du/WC – 300\,00 € im DZ mit Du/WC \nAnrechenbar für IGB-Mitglieder mit 15 Vertiefungsstunden \nWaldweg 15 · 93152 Nittendorf\nTelefon 09404 9502-20\nanmeldung@haus-werdenfels.de\nwww.haus-werdenfels.de \nKursleitung:\nDr. Heinrich Dickerhoff\nTheologe und Märchenerzähler\nCloppenburg\nSr. Magdalena Morgenstern\nExerzitienbegleiterin\,\nLogotherapeutin\,\nGestaltpädagogin\,\nHaus Werdenfels
URL:https://igb-bayern.de/kurs/elemente-des-lebens-die-evangelischen-raete-elemente-des-glaubens-feuer-wasser-erde-luft/
LOCATION:Haus Werdenfels\, Waldweg 15\, Nittendorf\, 93152\, Deutschland
CATEGORIES:Baustein A,Baustein B,Grundkurs,Schnupperkurs
ORGANIZER;CN="Haus Werdenfels":MAILTO:libon@Haus-Werdenfels.de
END:VEVENT
BEGIN:VEVENT
DTSTART;TZID=Europe/Berlin:20261105T150000
DTEND;TZID=Europe/Berlin:20261105T210000
DTSTAMP:20260424T175025
CREATED:20260324T195405Z
LAST-MODIFIED:20260324T195621Z
UID:2598-1793890800-1793912400@igb-bayern.de
SUMMARY:Online-Erlebnistag zur Systemischen Gestaltarbeit
DESCRIPTION:Online-Erlebnistag zur Systemischen Gestaltarbeit\n\n\nOnline-Erlebnistag zur Systemischen Gestaltarbeit \nTermin: Do.\, 05.11.2026 von 15 bis 21 Uhr \nOnline-Erlebnistage bieten dir die Möglichkeit zu erleben\, wie mit virtuellen Aufstellungstools SystemAufstellungen gemacht und auch angeleitet werden können. Der Tag wird für den Gestaltkurs „Integrative Gestaltpädagogik und heilende Seelsorge“ angerechnet. Er kann auch dazu dienen\, gestaltpädagogisch-systemisches Arbeiten und das Trainerteam kennenzulernen. Der Online-Tag kann ganz aber auch unabhängig davon und individuell als Supervisionstag für sich selbst genutzt werden.Sie können dabei eigene Fälle aus den privaten oder beruflichen Kontexten einbringen und sich supervidieren lassen. \nTheoretische Inputs reflektieren die praktischen Erfahrungen. \nInhalte: \n• Was ist Systemische Gestaltarbeit\n• Kontaktmodell aus der Gestalt und Systemisches Denken\n• Vorgehensweise einer gestaltorientierten SystemAufstellung\n• Basic-Interventionen für Aufstellungsarbeit\n• SystemAufstellungen aus privaten und beruflichen Kontexten \nJeder Tag kann einzeln gebucht werden und wird für die 5. Einheit der Ausbildung in Gestaltpädagogik anerkannt.\n4 Online-Erlebnistage ersetzen die 5. Gestalteinheit\, ebenso 2 Online-Erlebnistage + Präsenz-Schnupperwochenende. \nWeitere Informationen hierzu und zum gesamten Grundkurs „Integrative Gestaltpädagogik und heilende Seelsorge“ bei\nbuero@haus-werdenfels.de . Auskunft erteilt gerne Frau Katharina Libon\, Bildungsreferentin Haus Werdenfels Tel: 09404-950224 \nE-Mail: blibon@haus-werdenfels.de \nFrau Christine Seufert \n\nGestaltpädagogin und -Trainerin (IGB)\, NLP-Lehrtrainerin (DVNLP) \n\nhttps://www.haus-werdenfels.de/
URL:https://igb-bayern.de/kurs/online-erlebnistag-zur-systemischen-gestaltarbeit-4/
CATEGORIES:Baustein A,Grundkurs,Zoom Kurs
END:VEVENT
BEGIN:VEVENT
DTSTART;TZID=Europe/Berlin:20261113T180000
DTEND;TZID=Europe/Berlin:20261115T130000
DTSTAMP:20260424T175025
CREATED:20251110T091339Z
LAST-MODIFIED:20251110T092536Z
UID:2311-1794592800-1794747600@igb-bayern.de
SUMMARY:Was spricht mein Körper und warum weiß ich nichts davon? - Workshop zur Körpersprache
DESCRIPTION:Was spricht mein Körper und warum weiß ich nichts davon? – Workshop zur Körpersprache mit Alexander Veit \nFr.\, 13.11-So.\, 15.11.26 \nBeschreibung: Kommunikation\, ob verbal oder nonverbal hat oft fließenden Charakter.\nUmgangssprachlich: sie läuft. Wann stockt sie? \nIn diesem Workshop erfahren und erkunden wir praktisch die Wirkungen und möglichen\nBedürfnisse unseres leiblichen und körperlichen Ausdrucks. Bewegung und Präsenz\nbeeinflussen die Qualität unserer sozialen Beziehungen. Aufmerksamkeit\, Ausstrahlung und\nguter Kontakt verwirklichen sich in unserem körperlichen Ausdruck mittels Haltung\, Gestik\,\nMimik und Stimmklang. \nWas teile ich mit\, wie teile ich es mit\, wie kommt es an\, wann bin ich in welcher Situation\nüberzeugend\, wann beginnt Kommunikation zu „fließen“? Darüber hinaus: wann nehme ich\nbei mir und bei anderen Widersprüche wahr\, wie gehe ich damit um? \nIm Ausblick stelle ich praktische Methoden vor\, nicht gewünschte Muster und\nVerhaltensweisen im leiblichen und kommunikativen Bereich zu erkennen und zu\nverändern. \nReferent: Alexander Veit\, Pantomime\, Regisseur und Konzeptkünstler\, Dozent für nonverbale Kommunikation Lehrauftrag an der\nUniversität Passau\nThemen: Körpersprache\, Auftritt\, Systeme und Körper. \nMaterial: Bequeme Kleidung \nPreise: Kosten: 153\,00 €  Kursgebühr: 150\,00 € \nSchwerpunkte: Inputs und Übungen zu Aufrichtung und Haltung\, Bewegung\, Statusverhalten\,\nDifferenz und Gleichklang in Beziehungen\, Gang\, Mimik\, Veränderung \nHaus Johannisthal\, Johannisthal 1\, 92670 Windischeschenbach\nTelefon: +49 (0)96 81 – 4 00 15-0\nE-Mail: kontakt(at)haus-johannisthal.de \nhttps://www.haus-johannisthal.de
URL:https://igb-bayern.de/kurs/was-spricht-mein-koerper-und-warum-weiss-ich-nichts-davon-workshop-zur-koerpersprache/
LOCATION:Haus Johannisthal\, Johannisthal 1\, 92670 Windischeschenbach\, Johannisthal 1\, Windischeschenbach\, 92670\, Deutschland
CATEGORIES:Seminare
ORGANIZER;CN="Haus Johannisthal":MAILTO:kontakt@haus-johannisthal.de
END:VEVENT
BEGIN:VEVENT
DTSTART;TZID=Europe/Berlin:20261113T180000
DTEND;TZID=Europe/Berlin:20261115T130000
DTSTAMP:20260424T175025
CREATED:20251111T083212Z
LAST-MODIFIED:20251111T083212Z
UID:2320-1794592800-1794747600@igb-bayern.de
SUMMARY:Krippenfiguren gestalten  -  LEA-Erzählfiguren (früher EGLI)
DESCRIPTION:Krippenfiguren gestalten –  LEA-Erzählfiguren (früher EGLI) – \nFreitag 13.11.2026 * 18:00 Uhr Bis Sonntag 15.11.2026 * 13.00 Uhr \nAn diesem Wochenende besteht die Möglichkeit Schritt für Schritt zwei LEA-Erzählfiguren zu gestalten. Die Figuren eignen sich um eine Krippen-Szene zu stellen\, es können aber auch Geschichten mit ihnen erzählt werden. So lassen sich z.B. Biblische Geschichten in sichtbare Szenen umsetzen und können ganzheitlich erlebt werden. Neben den Werkeinheiten gibt es kurze Impulse mit den Figuren. \nMitzubringen: Nähzubehör (Schere\, Nähnadel\, Stecknadeln\, Fingerhut)\, kleines Messer mit Glattschliff\, Nähmaschine (falls vorhanden) \nDas weitere Material wird von der Kursleiterin zur Verfügung gestellt. \nKursgebühr: 160\,00 EUR (incl. Materialkosten für 2 Figuren + Baby) \nKursleitung: Gertraud Baldauf\, Tanz- und Ausdruckstherapeutin\, Gestaltberaterin IGB\, NLP-Trainerin (DVNLP)\, Kursleiterin für LEA-Erzählfiguren\, SoulCollage®-Facilitatorin \nHaus Johannisthal\, Johannisthal 1\, 92670 Windischeschenbach\nTelefon: +49 (0)96 81 – 4 00 15-0\nE-Mail: kontakt(at)haus-johannisthal.de \nhttps://www.haus-johannisthal.de
URL:https://igb-bayern.de/kurs/krippenfiguren-gestalten-lea-erzaehlfiguren-frueher-egli/
LOCATION:Haus Johannisthal\, Johannisthal 1\, 92670 Windischeschenbach\, Johannisthal 1\, Windischeschenbach\, 92670\, Deutschland
CATEGORIES:Seminare
ORGANIZER;CN="Haus Johannisthal":MAILTO:kontakt@haus-johannisthal.de
END:VEVENT
BEGIN:VEVENT
DTSTART;TZID=Europe/Berlin:20261120T180000
DTEND;TZID=Europe/Berlin:20261122T180000
DTSTAMP:20260424T175025
CREATED:20250717T094359Z
LAST-MODIFIED:20250731T144215Z
UID:2021-1795197600-1795370400@igb-bayern.de
SUMMARY:Wie ich geworden bin und wie ich weitergehe - Biographischer Intensivkurs zur Persönlichkeitsentwicklung mit Methoden der christlich-biblischen Gestaltarbeit.
DESCRIPTION:Wie ich geworden bin und wie ich weitergehe – Biographischer Intensivkurs zur Persönlichkeitsentwicklung mit Methoden der christlich-biblischen Gestaltarbeit.\nTermine 2026-2027 Gesamtkurs läuft von Oktober 26 bis Frühjahr 28. Termine 2026 (Teil 1): 02.-06. Oktober 2026. (Schnupperkurs)\, 20.11.-22.11.26\, 05.-07.03.27 und 04.-06.06.27\nDieser Kurs befasst sich mit den Grundfragen unseres Menschseins: Wie bin ich geworden und wer bin ich heute aufgrund innerer und äußerer Einflüsse und Gegebenheiten? Welche Rolle spielen mein biographischer und spiritueller Hintergrund für mein Gewordensein? Was gilt es ins Bewusstsein zu heben\, zu würdigen\, zu heilen oder zu verabschieden\, um mit vertiefter Selbstwahrnehmung und größerem Selbstbewusstsein das persönliche Lebenspotenzial zu entfalten? In welcher „Gestalt“ will ich in die Zukunft gehen? \nEs ist ein „learning by doing“: erfahren – reflektieren – integrieren. Dies ermöglicht einen gereiften\, befreiten und heilsamen Umgang mit mir selbst und den mir anvertrauten Menschen in Familie\, Gruppe\, Gemeinde\, Schule\, am Arbeitsplatz. \nDer Gesamtkurs umfasst Teil 1 und Teil 2\, die getrennt buchbar sind. \nBeide Teile bestehen jeweils aus 4 Wochenenden (Fr. 18:00 – So. 13:00 Uhr). Dazu kommen 1-2 Online-Termine von ca. 2 Stunden nach jedem Wochenende. Insgesamt läuft der Kurs von Oktober 26 bis Frühjahr 2028. \nTermine 2026 (Teil 1): 02.-06.Oktober 26 (Schnupperkurs)\, 20.11.-22.11.26\, 05.-07.03.27 und 04.-06.06.27 \nElemente: kreatives Arbeiten mit Körper\, Geist und Seele\, als Einzelne und in der Gruppe\, theoretische Einordnung in Psychologie\, Pädagogik und Theologie. Vorab bitte Info- und Kontaktgespräch vereinbaren mit der Kursleiterin Rebekka-Chiara Hengge. \nGespräch: Mail: hengge@posielek.de \nKursleitung: Rebekka-Chiara Hengge\, Gestalttrainerin (IIGS)\, Supervisorin (AGS)\, NLP-Master (GANLP)\,Heilpraktikerin für Psychotherapie (HPG)\, Bibliodrama- und Bibliologausbildung \n  \nEine spätere Graduierung zum Gestaltpädagogen/zur Gestaltpädagogin beim bayerischen Gestaltverein IGB ist möglich! \nKosten pro Wochenende: 250\,-Euro (Übernachtung\, Vollpension\, Kurs) \nAnmeldung:  info@kloster-maihingen.de \nKursort: Kloster Maihingen\, Klosterhof 5\, 86747 Maihingen \nwww.kloster-maihingen.de \nKunstwerk von Dr. Hans-Peter Eggerl\, Passau \n  \n 
URL:https://igb-bayern.de/kurs/wie-ich-geworden-bin-und-wie-ich-weitergehe-biographischer-intensivkurs-zur-persoenlichkeitsentwicklung-mit-methoden-der-christlich-biblischen-gestaltarbeit-2/
LOCATION:Kloster Maihingen         Klosterhof 5\, 86747 Maihingen\, Klosterhof 5\, Maihingen\, 86747\, Germany
CATEGORIES:Baustein A,Grundkurs,Seminare
END:VEVENT
BEGIN:VEVENT
DTSTART;TZID=Europe/Berlin:20261211T180000
DTEND;TZID=Europe/Berlin:20261213T130000
DTSTAMP:20260424T175025
CREATED:20251114T065102Z
LAST-MODIFIED:20251114T071050Z
UID:2324-1797012000-1797166800@igb-bayern.de
SUMMARY:"Du bist ein Königskind"-Adventliche Tage
DESCRIPTION:„Du bist ein Königskind“ \nAdventliche Tage \nFreitag 11. Dezember 2026 * 18.00 Uhr bis Sonntag 13. Dezember 2026 * 13.00 Uhr \nIch bin von Gott geliebt und gesegnet. Lassen Sie uns gemeinsam die Talente und Fähigkeiten entdecken\, die Gott in uns hinein gelegt hat. Diese können dann Ressourcen sein\, die uns durch den Alltag tragen. Mit der kreativen Methode SoulCollage® entstehen kleine Bilder\, die uns tiefer in das Thema eintauchen lassen. Austausch und Begegnung bereichern die Tage. Meditative Tänze umrahmen die Einheiten und lassen uns bei uns selbst ankommen. Freuen Sie sich auf eine Zeit für sich und lassen Sie sich überraschen von dem was entstehen möchte. \nKursleitung: Frau Gertraud Baldauf\, Tanz- und Ausdruckstherapeutin (Wendepunkt); Gestaltberaterin (IGB); NLP-Trainer (DVNLP); SoulCollage®- acilitatorin; Kursleiterin für LEA-Figuren \nKursgebühr: 100\,00 € Pension: 145\,00 € im EZ mit DU/WC 135\,00 € im EZ mit Etage \nAnrechenbar für IGB-Mitglieder mit 12 Vertiefungsstunden \nWaldweg 15 · 93152 Nittendorf\, Telefon 09404 9502-20\nanmeldung@haus-werdenfels.de\nwww.haus-werdenfels.de
URL:https://igb-bayern.de/kurs/dventliche-tage/
LOCATION:Haus Werdenfels\, Waldweg 15\, Nittendorf\, 93152\, Deutschland
CATEGORIES:Baustein A,Baustein B
ORGANIZER;CN="Haus Werdenfels":MAILTO:libon@Haus-Werdenfels.de
END:VEVENT
BEGIN:VEVENT
DTSTART;TZID=Europe/Berlin:20270201T153000
DTEND;TZID=Europe/Berlin:20270205T130000
DTSTAMP:20260424T175025
CREATED:20260317T190454Z
LAST-MODIFIED:20260324T193712Z
UID:2543-1801495800-1801832400@igb-bayern.de
SUMMARY:Bibel getanzt: erfahren – reflektieren - üben
DESCRIPTION:Montag\, 01. Februar 2027 * 15.30 Uhr bis Freitag\, 05. Februar 2027 * 13.00 Uhr \nBibel getanzt ist ein Weg\, \n\nder von einem biblischen Text ausgeht\,\nder durch Bewegung und eine wache Körperpräsenz in die Begegnung mit Gott führt\,\nauf dem ich Schritt für Schritt erlebe\, dass ich bin.\n\nTanz und Gebärde werden heute als spirituelle Wege wieder neu entdeckt. Die Gebärde als Urform der Sprache ist so alt wie die Menschheit\, das Gleiche gilt für den Tanz.\nFür viele Menschen heute wird der Tanz mit seinem Symbolerleben zum Tor für eine tiefere Gottesbeziehung.\nTanzend wenden wir uns dem Geheimnis der Hl. Schrift zu. Wir entdecken dabei\, was ihre Botschaft für die Einzelnen ganz persönlich ist.\nTänze entstanden und entstehen aus Liebe zum Leben. Sie öffnen den Menschen für das Leben und somit für Gott!\nWenn wir „die Bibel tanzen“\, nähern wir uns dem Inhalt der Hl. Schrift durch Gebärden und Tanzschritte.\nWie das geschieht\, wollen wir in diesem Seminar erfahren\, reflektieren und üben. \nKursgebühr: 260\,00 € – Pension: 330\,00 € EZ mit Du/WC \nAnrechenbar für IGB-Mitglieder mit 15 Vertiefungsstunden \nKursleitung:\nMichaela Pfaffenbichler\nTanzleiterin „Bibel getanzt“ \n Sr. Magdalena Morgenstern\nExerzitienbegleiterin\, Logotherapeutin\, Gestaltpädagogin IGB Haus Werdenfels  \nWaldweg 15 · 93152 Nittendorf\nTelefon 09404 9502-20\nanmeldung@haus-werdenfels.de\nwww.haus-werdenfels.de
URL:https://igb-bayern.de/kurs/bibel-getanzt-erfahren-reflektieren-ueben/
LOCATION:Haus Werdenfels\, Waldweg 15\, Nittendorf\, 93152\, Deutschland
CATEGORIES:Baustein A,Grundkurs,Seminare
ORGANIZER;CN="Haus Werdenfels":MAILTO:libon@Haus-Werdenfels.de
END:VEVENT
BEGIN:VEVENT
DTSTART;TZID=Europe/Berlin:20270312T180000
DTEND;TZID=Europe/Berlin:20270314T130000
DTSTAMP:20260424T175025
CREATED:20250226T105133Z
LAST-MODIFIED:20260320T142421Z
UID:1907-1804874400-1805029200@igb-bayern.de
SUMMARY:Paarwochenende
DESCRIPTION:Fr.\, 12.- So.\, 14.03.27 \nWo stehen wir als Paar und wie sind wir miteinander unterwegs? Gemeinsam gehen wir diesen Fragen nach\, um das Leben zu zweit anzuschauen und den gemeinsamen Alltag weiter zu gestallten. Inhalte: • Impulse für das Leben als Paar • Auszeit zu zweit • Zeit für sich • Gemeinsames Feiern • Gottesdienst • Austausch in der Gruppe • Ruhe und Erholung \nKursleitung: Dagmar Binner\, Martina Kohl\, Kathrin Karban-Völkl \nDie Referentinnen sind alle Gestaltpädagoginnen und in unterschiedlichen Berufsfeldern tätig. \nIGB-Mitglieder erhalten 12 Vertiefungsstunden \n\nHaus Johannisthal\, Johannisthal 1\,92670 Windischeschenbach\n\nTelefon: +49 (0)96 81 – 4 00 15-0 Telefax: +49 (0)96 81 – 4 00 15-10\nE-Mail: kontakt@haus-johannisthal.de \nhttps://www.haus-johannisthal.de
URL:https://igb-bayern.de/kurs/paarwochenende-2/
LOCATION:Haus Johannisthal\, Johannisthal 1\, 92670 Windischeschenbach\, Johannisthal 1\, Windischeschenbach\, 92670\, Deutschland
CATEGORIES:Baustein A,Grundkurs,Seminare
ORGANIZER;CN="Haus Johannisthal":MAILTO:kontakt@haus-johannisthal.de
END:VEVENT
END:VCALENDAR