BEGIN:VCALENDAR
VERSION:2.0
PRODID:-//Integrative Gestaltpädagogik - ECPv6.15.17.1//NONSGML v1.0//EN
CALSCALE:GREGORIAN
METHOD:PUBLISH
X-ORIGINAL-URL:https://igb-bayern.de
X-WR-CALDESC:Veranstaltungen für Integrative Gestaltpädagogik
REFRESH-INTERVAL;VALUE=DURATION:PT1H
X-Robots-Tag:noindex
X-PUBLISHED-TTL:PT1H
BEGIN:VTIMEZONE
TZID:Europe/Berlin
BEGIN:DAYLIGHT
TZOFFSETFROM:+0100
TZOFFSETTO:+0200
TZNAME:CEST
DTSTART:20230326T010000
END:DAYLIGHT
BEGIN:STANDARD
TZOFFSETFROM:+0200
TZOFFSETTO:+0100
TZNAME:CET
DTSTART:20231029T010000
END:STANDARD
BEGIN:DAYLIGHT
TZOFFSETFROM:+0100
TZOFFSETTO:+0200
TZNAME:CEST
DTSTART:20240331T010000
END:DAYLIGHT
BEGIN:STANDARD
TZOFFSETFROM:+0200
TZOFFSETTO:+0100
TZNAME:CET
DTSTART:20241027T010000
END:STANDARD
BEGIN:DAYLIGHT
TZOFFSETFROM:+0100
TZOFFSETTO:+0200
TZNAME:CEST
DTSTART:20250330T010000
END:DAYLIGHT
BEGIN:STANDARD
TZOFFSETFROM:+0200
TZOFFSETTO:+0100
TZNAME:CET
DTSTART:20251026T010000
END:STANDARD
END:VTIMEZONE
BEGIN:VEVENT
DTSTART;TZID=Europe/Berlin:20240902T140000
DTEND;TZID=Europe/Berlin:20240906T120000
DTSTAMP:20260426T060841
CREATED:20240103T113340Z
LAST-MODIFIED:20240516T091702Z
UID:1213-1725285600-1725624000@igb-bayern.de
SUMMARY:Kreativ- und Malexerzitien-Oh\, wie schön ist Himmelblau-Wurde verschoben
DESCRIPTION:Kreativ- und Malexerzitien-Oh\, wie schön ist Himmelblau -Wurde verschoben. Interessenten und Interessentinnen können sich gern bei Christina Eggerl\, Dr. Hans-Peter Eggerl melden. Lassen Sie sich gern auf die Interesse-Liste setzen. \nReferentin/Referent: Christina Eggerl\, Dr. Hans-Peter Eggerl \nZeit: Mo.\, 02.- Do.\, 06.September 2024\, Beginn 14 Uhr \nOrt: Schloss Goldrain\, Coldrano/Goldrain Südtirol\, Schlossstraße 33\nI-39021 Goldrain/Südtirol (BZ) \nAnmerkung: vor Ort müssen Exkursionen mit den Pkw der Teilnehmenden bestritten werden\, hier können Fahrgemeinschaften gebildet werden. \nAnmeldung: per Mail info@deepbluesee.de \nDiese Exerzitien folgen täglich einem klaren Rhythmus\, der es erlaubt\, sich auf das Wesentliche und die eigene Seele zu konzentrieren. Dennoch ist er weniger streng und karg\, wie viele es von „klassischen“ Exerzitien kennen. \nSchauen\, staunen und einfach da sein- durchschnaufen und aufatmen\, skizzieren und malen\, Zeit haben und sich inspirieren lassen von Natur und Draußensein\, von spirituellen Impulsen\, von wunderschönen Orten und interessanten Menschen\, das ist das Konzept dieser Kreativ- und Malexerzitien im schönen Vinschgau. Kurs ist für Malinteressierte gedacht; ob Sie nun künstlerisch-kreativ tätig sind oder nicht\, begabt oder weniger begabt\, geübt oder nicht\, jeder und jede wird auf seine/ihre Kosten kommen. Der Tagesablauf ist jeweils gut rhythmisiert und abwechslungsreich gestaltet durch spirituell rituelle Einheiten zum Tagesbeginn und -ausstieg\, durch Phasen des Malens\, Zeichnens und Gestaltens\, durch Zeiten der Ruhe und des Miteinanders. \nKurskosten: 520\,- € Übernachtung und Verpflegung: Wir haben Reservierungen für unsere Teilnehmerinnen und Teilnehmer im Gästehaus des Schlosses vorgenommen. Diese können gerne übernommen werden. Bitte buchen Sie Ihre Zimmer gleich direkt beim Büro des Hauses. Die aktuellen Hauspreise entnehmen Sie bitte der Homepage des Schlosses (www.schloss-goldrain.com).
URL:https://igb-bayern.de/kurs/kreativ-und-malexerzitien-oh-wie-schoen-ist-himmelblau/
LOCATION:Goldrain\, Schlossstraße 33 I-39021 Goldrain/Südtirol (BZ)\, Italien
ORGANIZER;CN="Christina und Hans-Peter Eggerl":MAILTO:info@deepbluesee.de
END:VEVENT
BEGIN:VEVENT
DTSTART;TZID=Europe/Berlin:20240920T000000
DTEND;TZID=Europe/Berlin:20240920T000000
DTSTAMP:20260426T060841
CREATED:20240911T145759Z
LAST-MODIFIED:20240911T150022Z
UID:1485-1726790400-1726790400@igb-bayern.de
SUMMARY:Männerseminar
DESCRIPTION:Authentisch und bewusst leben und lieben Mannsein in Zeiten von Krisen\, Transformation und weltweitem Wandel – Männerseminar IGBW Oktober 2024\nAnmeldung bis 20.9.2024 \nFlyer von der Ausschreibung des IGBW
URL:https://igb-bayern.de/kurs/maennerseminar/
END:VEVENT
END:VCALENDAR