BEGIN:VCALENDAR
VERSION:2.0
PRODID:-//Integrative Gestaltpädagogik - ECPv6.15.17.1//NONSGML v1.0//EN
CALSCALE:GREGORIAN
METHOD:PUBLISH
X-WR-CALNAME:Integrative Gestaltpädagogik
X-ORIGINAL-URL:https://igb-bayern.de
X-WR-CALDESC:Veranstaltungen für Integrative Gestaltpädagogik
REFRESH-INTERVAL;VALUE=DURATION:PT1H
X-Robots-Tag:noindex
X-PUBLISHED-TTL:PT1H
BEGIN:VTIMEZONE
TZID:Europe/Berlin
BEGIN:DAYLIGHT
TZOFFSETFROM:+0100
TZOFFSETTO:+0200
TZNAME:CEST
DTSTART:20240331T010000
END:DAYLIGHT
BEGIN:STANDARD
TZOFFSETFROM:+0200
TZOFFSETTO:+0100
TZNAME:CET
DTSTART:20241027T010000
END:STANDARD
BEGIN:DAYLIGHT
TZOFFSETFROM:+0100
TZOFFSETTO:+0200
TZNAME:CEST
DTSTART:20250330T010000
END:DAYLIGHT
BEGIN:STANDARD
TZOFFSETFROM:+0200
TZOFFSETTO:+0100
TZNAME:CET
DTSTART:20251026T010000
END:STANDARD
BEGIN:DAYLIGHT
TZOFFSETFROM:+0100
TZOFFSETTO:+0200
TZNAME:CEST
DTSTART:20260329T010000
END:DAYLIGHT
BEGIN:STANDARD
TZOFFSETFROM:+0200
TZOFFSETTO:+0100
TZNAME:CET
DTSTART:20261025T010000
END:STANDARD
END:VTIMEZONE
BEGIN:VEVENT
DTSTART;TZID=Europe/Berlin:20250228T180000
DTEND;TZID=Europe/Berlin:20250302T130000
DTSTAMP:20260425T191527
CREATED:20240102T153609Z
LAST-MODIFIED:20241114T131657Z
UID:1199-1740765600-1740920400@igb-bayern.de
SUMMARY:Seminarschulung
DESCRIPTION:Seminar für zukünftige Seminarleiter/innen \nZiel: Qualitätssicherung der Trainer-Ausbildung für Gestalttrainer/innen und Gestaltseminarleiter/innen \nInhalte: Seminargestaltung \n\nSettings gestalten: Unterschied von Selbsterfahrung und Wissensvermittlung-Seminare eröffnen und Atmosphären für das jeweilige Setting schaffen: Frames\, Metabotschaften\, Haltungen und Befürchtungen wahrnehmen und damit gelingend umgehen\nGruppe und Sicherheit: Kontaktgestaltung in der Gruppe-Rapport (Ermöglichen von gutem Kontakt in der Gruppe) Umgang mit Bedürfnissen\nWeitere Themen: Pädagogische Haltung\, Menschenbild – Rückkopplung\, Feedback\, Runden (Anfangs- und Abschlussrunde) – Seminargestaltung unter Berücksichtigung moderner neurodidaktischer Erkenntnisse\, Gestaltung von Präsentationen – Wesensmerkmale spezifisch christlicher Gestaltpädagogik nach Albert Höfer – Gestalten geistlicher Elemente\n\nSeminarleiter- und Seminarleiterinnenpersönlichkeit \n\nTheorie und Selbsterfahrung: Rolle und Person\, formelle und informelle Rollen- Nutzen von Bühnenankern im Präsentationsraum zum Einnehmen von Rollen und Schaffen von Atmosphären\nTrainer/in und Gruppe: Wer bin ich in der Gruppe?\nRessourcen: Selbsterfahrung: Sammeln von Ressourcen für die Arbeit als Seminarleiter/in\nMein spezielles Profil als Trainer/in und Seminarleiter/in- Präsenz\, Haltung als Trainer/in und Seminarleiter/in\nGestaltarbeit: Erschließung neuer Anwendungsfelder\n\nPsychodiagnostik \n\nWahrnehmungsfähigkeit der/des Trainer/in\, Seminarleiter/in\nUnterscheidung von Neurose und Psychose- Charakter- und Neurosenlehre\nRechtsfragen\, Berufsethik\n\nOrganisatorisches: Termin: 28. Februar bis 2. März 2025 und 04. – 06. April 2025 jeweils Freitag\, 18.00 – 22.00 Uhr\, Samstag\, 9.00 – 13.00; 14.30 – 18.30 Sonntag\, 9.00 – 13.00 Uhr \nINTAKA Regensburg Trainerin: Christine Seufert \nSeminargebühr: 480\,00 € für IGB-Mitglieder 640\,00 € für Nicht-Mitglieder
URL:https://igb-bayern.de/kurs/seminarschulung/
LOCATION:Regensburg\, Bismarckplatz 9\, 93047 Regensburg\, Deutschland
CATEGORIES:Baustein C,Fortbildungskurs,Seminare
ORGANIZER;CN="INTAKA":MAILTO:info@intaka.de
END:VEVENT
BEGIN:VEVENT
DTSTART;TZID=Europe/Berlin:20250305T180000
DTEND;TZID=Europe/Berlin:20250309T130000
DTSTAMP:20260425T191527
CREATED:20231023T151424Z
LAST-MODIFIED:20250313T083710Z
UID:745-1741197600-1741525200@igb-bayern.de
SUMMARY:Krisenintervention
DESCRIPTION:Krisenintervention\n\n\nKontakt:\nHaus Werdenfels\, Waldweg 15 93152 Nittendorf Tel: 09404/9502-0 Mail: Anmeldung@Haus-Werdenfels.de\nKursinhalte: Krisenintervention \nMi 05.03.2025*18 – So 09.03.2025*13 \nAus Entwicklungspsychologie\, Charakterkunde und Neurosenlehre finden wir Antworten auf die Frage: \nFür welche Krisen sind Menschen aufgrund lebensgeschichtlicher Prägung anfällig? \nWir lernen Krisen unterscheiden und üben hilfreiche Interventionsmöglichkeiten- auch für akute Notfallsituationen. Wir verschaffen uns ein gutes Wissenspolster in den Bereichen: Borderline\, Missbrauch\, Depression\, Sucht\, Suizidalität\, Trauer\, Burnout. Es gibt Informationen zur aktuellen Gesetzeslage und ein umfangreiches Handout.  \nLeitung: Rebekka Chiara Hengge\, \nGestalttrainerin (IIGS)\, Supervisorin (AGS)\, NLP-Master (GANLP)\, Heilpraktikerin für Psychotherapie (HPG)\, Bibliodrama- und Bibliologausbildung \n  \nOrt: Haus Werdenfels\, Waldweg 15\, 93152 Nittendorf\, Tel. 09404 95020 \nAnmeldung über das Haus Werdenfels  Anmeldung@Haus-Werdenfels.de \nwww.haus-werdenfels.de \nKursgebühr: 200 € Plus Hauskosten \nOrt:\nHaus Werdenfels\, Waldweg 15\, D-93152 Nittendorf \nWeitere Informationen:\nKrisenintervention für Interessierte und für Interessierte an den Inhalten des Curriculums für Baustein B nach den Richtlinien des IGB (Integrative Gestaltpädagogik in Schule\, Seelsorge und Beratung Bayern e.v.) – anrechenbar mit 40 Stunden.
URL:https://igb-bayern.de/kurs/krisenintervention/
LOCATION:Haus Werdenfels\, Waldweg 15\, Nittendorf\, 93152\, Deutschland
CATEGORIES:Baustein B,Baustein C,Fortbildungskurs,Fortbildungskurs,Seminare,Seminare
ORGANIZER;CN="Haus Werdenfels":MAILTO:libon@Haus-Werdenfels.de
END:VEVENT
BEGIN:VEVENT
DTSTART;TZID=Europe/Berlin:20250310T080000
DTEND;TZID=Europe/Berlin:20250310T170000
DTSTAMP:20260425T191527
CREATED:20250114T102826Z
LAST-MODIFIED:20250114T103120Z
UID:1817-1741593600-1741626000@igb-bayern.de
SUMMARY:Atem holen – Gestärkt weitergehen  Gestaltpädagogische Orientierungstage Anmeldung bis 10.3.2025
DESCRIPTION:Atem holen – Gestärkt weitergehen \nGestaltpädagogische Orientierungstage \n17. bis 21.11.2025 – Nordseeinsel Langeoog\, Haus Meedland \nVeranstalter: IIGS Österreichischer Gestaltverein \nFlyer
URL:https://igb-bayern.de/kurs/atem-holen-gestaerkt-weitergehen-gestaltpaedagogische-orientierungstage-anmeldung-bis-10-3-2025/
END:VEVENT
BEGIN:VEVENT
DTSTART;TZID=Europe/Berlin:20250322T080000
DTEND;TZID=Europe/Berlin:20250322T170000
DTSTAMP:20260425T191527
CREATED:20250114T102051Z
LAST-MODIFIED:20250114T102309Z
UID:1811-1742630400-1742662800@igb-bayern.de
SUMMARY:Zusammen ist man weniger allein? Anmeldung bis 22.3.2025
DESCRIPTION:Zusammen ist man weniger allein? \nGestaltseminar Freitag * 04.04.2025 * 17:00 Uhr bis Sonntag * 06.04.2025 * 13:00 Uhr …stimmt das wirklich? \nFlyer \nAnmeldung: bis 22.03.2025 \nSeminarleitung: Kerstin Stein\, Gestaltpädagogin IGB\, Seelsorgerin Team-F.\, Sozialpädagogin \nMarie-Luise Kunze\, Seelsorgerin und Traumaberaterin Team-F.\, Gestaltpädagogin \nKerstin Blumrich\, musikalische Mitarbeiterin\, Begleitende Seelsorgerin (BTS®) \nKursgebühr: 90\,-\n2 Übernachtungen EZ mit Bad\, Vollpension: 160\,-\n2 Übernachtungen DZ mit Bad\, Vollpension: 280\,-\nTagesgäste mit Vollpension: 78\,-\n(Eine Teilnahme ohne Vollpension ist nicht möglich.\nUnsere AGB finden Sie hier: www.komensky.de/agb.) \nVeranstaltungsort: Evangelische Brüderunität\nKOMENSKÝ\nGäste-und Tagungshaus\nComeniusstr. 8-10\n02747 Herrnhut\nTelefon: 035873 33840\nInternet: www.komensky.de\nE-Mail: info@komensky.de
URL:https://igb-bayern.de/kurs/zusammen-ist-man-weniger-allein-anmeldung-bis-22-3-2025/
LOCATION:02747 Herrnhut\, Deutschland
ORGANIZER;CN="Herrnhut":MAILTO:info@komensky.de
END:VEVENT
END:VCALENDAR