BEGIN:VCALENDAR
VERSION:2.0
PRODID:-//Integrative Gestaltpädagogik - ECPv6.15.17.1//NONSGML v1.0//EN
CALSCALE:GREGORIAN
METHOD:PUBLISH
X-ORIGINAL-URL:https://igb-bayern.de
X-WR-CALDESC:Veranstaltungen für Integrative Gestaltpädagogik
REFRESH-INTERVAL;VALUE=DURATION:PT1H
X-Robots-Tag:noindex
X-PUBLISHED-TTL:PT1H
BEGIN:VTIMEZONE
TZID:Europe/Berlin
BEGIN:DAYLIGHT
TZOFFSETFROM:+0100
TZOFFSETTO:+0200
TZNAME:CEST
DTSTART:20240331T010000
END:DAYLIGHT
BEGIN:STANDARD
TZOFFSETFROM:+0200
TZOFFSETTO:+0100
TZNAME:CET
DTSTART:20241027T010000
END:STANDARD
BEGIN:DAYLIGHT
TZOFFSETFROM:+0100
TZOFFSETTO:+0200
TZNAME:CEST
DTSTART:20250330T010000
END:DAYLIGHT
BEGIN:STANDARD
TZOFFSETFROM:+0200
TZOFFSETTO:+0100
TZNAME:CET
DTSTART:20251026T010000
END:STANDARD
BEGIN:DAYLIGHT
TZOFFSETFROM:+0100
TZOFFSETTO:+0200
TZNAME:CEST
DTSTART:20260329T010000
END:DAYLIGHT
BEGIN:STANDARD
TZOFFSETFROM:+0200
TZOFFSETTO:+0100
TZNAME:CET
DTSTART:20261025T010000
END:STANDARD
END:VTIMEZONE
BEGIN:VEVENT
DTSTART;TZID=Europe/Berlin:20250529T180000
DTEND;TZID=Europe/Berlin:20250601T130000
DTSTAMP:20260425T134727
CREATED:20250108T185049Z
LAST-MODIFIED:20250108T185049Z
UID:1747-1748541600-1748782800@igb-bayern.de
SUMMARY:Getanztes Gebet - Meditativer Tanz für Anleiter/innen
DESCRIPTION:Das Seminar richtet sich an Menschen\, die sakralen bzw. meditativen Tanz als ganzheitliche Form des Betens bzw. Feierns in Gemeinde\, Schule und Erwachsenenbildung erproben und selbst anleiten wollen. \nIm Kurs wird daher die Wirkung ganzheitlich gelebten Glaubens selbst erfahren und vertieft sowie Methoden der Einführung und Anleitung vermittelt. \nKursinhalte: \n\nWiederentdeckung der Leiblichkeit in Meditation\, Gebet und meditativem Tanz\nSinnes\,- Atemwahrnehmung\nKörperwahrnehmung und Ausdruck\nBewegungsformen\, Haltungen\, Ur-Gebärden\nArbeiten mit Archetypen\, Symbolen und Themen (z.B. Labyrinth)\n\nKursleiterin: Petra Staiger\, Integrative Tanztherapeutin (DGT®)\, Integrative Gestalttrainerin (IGB)\, Dipl.-Sozialpäd. (FH)\, Referentin für sakralen Tanz \nKosten: 100\,- Euro plus Pension \nOrt: Haus Werdenfels\, Waldweg 15\, D-93152 \nAnrechenbar für Mitglieder des IGB mit 12 Vertiefungsstunden\, die als Nachweis der Reflexion der gestaltpädagogischen Praxis gelten.\n \n 
URL:https://igb-bayern.de/kurs/getanztes-gebet-meditativer-tanz-fuer-anleiter-innen/
LOCATION:Haus Werdenfels\, Waldweg 15\, Nittendorf\, 93152\, Deutschland
CATEGORIES:Seminare
ORGANIZER;CN="Haus Werdenfels":MAILTO:libon@Haus-Werdenfels.de
END:VEVENT
BEGIN:VEVENT
DTSTART;TZID=Europe/Berlin:20250601T000000
DTEND;TZID=Europe/Berlin:20250607T000000
DTSTAMP:20260425T134727
CREATED:20240609T131555Z
LAST-MODIFIED:20240609T131947Z
UID:1411-1748736000-1749254400@igb-bayern.de
SUMMARY:Assisifahrt 2025-Die "Handschrift Gottes" im eigenen Leben entdecken
DESCRIPTION:Die „Handschrift Gottes“ im eigenen Leben entdecken\nDas Leben von Franziskus bietet eine Fülle an unterschiedlichsten Erfahrungen. Sie können helfen\, die eigene Lebensgeschichte als Heilsgeschichte zu lesen Ich will Euch vor Ort diese Geschichte erzählen und dabei Übersetzungshilfen für das eigene Leben geben.\nVielleicht können wir in der Begegnung mit dem Leben dieses so wunderbar menschlichen Heiligen die „Handschrift Gottes“ im eigenen Leben entdecken.\nEs wird außerdem Zeit und Anregung zur persönlichen Reflexion geben\, Gebet\, gutes Essen\, Gemeinschaft und freie Zeit. Kosten:\n6 x HP im EZ: 420 €\n6 x HP im DZ: 390 €\nReisekosten (Bus) 410 €\nKursgebühr 100 €\nGeistliche Studienfahrt nach Assisi\n01.06. – 07.06. 2025\nUnterkunft: Monastero St. Andrea \nAnmeldung und nähere Infos bei Sr. Magdalena\nsr.magdalen“ät“haus-werdenfels.de\noder telefonisch: 09404 – 9502 27\nWaldweg 15 · 93152 Nittendorf\nTelefon 09404 9502-0\nTelefax 09404 9502950\nanmeldung@haus-werdenfels.de\nwww.haus-werdenfels.de \nVorschau: Assisifahrt 2026 ist in den Pfingstferien terminiert 25.05. bis 31.05.2026
URL:https://igb-bayern.de/kurs/assisifahrt-2025-die-handschrift-gottes-im-eigenen-leben-entdecken/
ORGANIZER;CN="Haus Werdenfels":MAILTO:libon@Haus-Werdenfels.de
END:VEVENT
BEGIN:VEVENT
DTSTART;TZID=Europe/Berlin:20250616T140000
DTEND;TZID=Europe/Berlin:20250620T130000
DTSTAMP:20260425T134727
CREATED:20250127T155741Z
LAST-MODIFIED:20250319T142054Z
UID:1842-1750082400-1750424400@igb-bayern.de
SUMMARY:Mystisches Südtirol
DESCRIPTION:Mystisches Südtirol Eine spirituelle Reise \nReferentin/Referent: Christina Eggerl und Dr. Hans-Peter Eggerl \nOrt: Bildungshaus Schloss Goldrain\, Coldrano/Goldrain\, Südtirol\, Italien \nBeginn: MO 16.06.2025 um 14:00 Uhr Ende: FR 20.06.2025 ca. 13:00 Uhr \nAnmerkungen: ● Übernachtung und Verpflegung im Gästehaus des Schlosses. Bitte bei Anmelden auch die gewünschte Zimmerkategorie (EZ oder DZ) angeben. \n● Anreise selbstständig (Abholung am Bahnhof möglich); Exkurstionsfahrten vor Ort in eigenen PKWs (Fahrgemeinschaften); \nKosten: Kursgebühr 650\,-  incl. Materialien\, ortsansässige Referenten\, Kursjournal etc. Zzgl. Übernachtung mit Verpflegung (HP) bitte eigenständig im Kurshaus buchen ( info@schloss-goldrain.com) – Wir haben für unseren Kurs Zimmerreservierungen vorgenommen. Bitte Zimmerkategorie (EZ oder DZ) angeben! \nKurs-Anmeldung bis spätestens 01.03.2025 per Mail: info@deepbluesee.de \n● Im Tal der Stille sich selbst begegnen im wunderschönen Schnalstal. ● Bilderreichtum – Brückenschläge ins Transzendente – spirituelle Impulse durch südtiroler Kunst. ● Natur ist nicht nur Ausflugsort sondern vielmehr Heimat – naturspirituelle Ermutigungen ● Einladungen zu TAGESEINSTIEGEN und -AUSKLÄNGEN\, zu meditativen EINHEITEN\,  zu ANDACHT& ACHTSAMKEIT . ● GESELLIGKEIT und regional Kulinarisches u.v.m. ● und ein paar schöne ÜBERRASCHUNGEN! \nMYSTISCHES E  i  n  e     s  p  i  r  i  t  u  e  l  l  e     R  e  i  s  e WEITERE INFORMATIONEN ● Bitte geeignete\, wetterfeste Kleidung und gebirgstaugliches Schuhwerk sowie ggf. Schreibzeug mitnehmen. ● Die Ausflugsfahrten vorort müssen in der Regel selbstständig mit dem eigenen PKW bestritten werden; hier können Fahrgemeinschaften gebildet werden. ● Für die Wanderungen brauchen Sie ein gewisses Maß an Trittsicherheit\, sowie Kondition für ein längeres Unterwegsein . >> bei diesbezüglichen Unsicherheiten bitten wir um Rückfrage!
URL:https://igb-bayern.de/kurs/mystisches-suedtirol-anmeldung-bis-1-3-2025/
LOCATION:Goldrain\, Schlossstraße 33 I-39021 Goldrain/Südtirol (BZ)\, Italien
CATEGORIES:Seminare
ORGANIZER;CN="Christina und Hans-Peter Eggerl":MAILTO:info@deepbluesee.de
END:VEVENT
BEGIN:VEVENT
DTSTART;TZID=Europe/Berlin:20250626T180000
DTEND;TZID=Europe/Berlin:20250629T130000
DTSTAMP:20260425T134727
CREATED:20240103T094847Z
LAST-MODIFIED:20250112T115812Z
UID:1211-1750960800-1751202000@igb-bayern.de
SUMMARY:Gruppendynamik
DESCRIPTION:Einführung in die Gruppendynamik\n\n\n40 Unterrichtsstunden \n\nBegleitung gruppendynamischer Prozesse Interaktionelle Intervention\n\n\nArbeit mit Metapher\n\nDo.\, 26.06.2025 bis So.\, 29.06.2025; Donnerstag\, 18.00 – 22.00 Uhr\, Freitag und Samstag\, 9.00 – 13.00; 14.30 – 18.30 Sonntag\, 9.00 – 13.00 Uhr \n\nINTAKA Regensburg Trainerin: Christine Seufert\nSeminargebühr: 320\,00 € für IGB-Mitglieder              480\,00 € für Nicht-Mitglieder
URL:https://igb-bayern.de/kurs/gruppendynamik-2/
LOCATION:Regensburg\, Bismarckplatz 9\, 93047 Regensburg\, Deutschland
CATEGORIES:Baustein C,Fortbildungskurs,Seminare
ORGANIZER;CN="INTAKA":MAILTO:info@intaka.de
END:VEVENT
END:VCALENDAR