BEGIN:VCALENDAR
VERSION:2.0
PRODID:-//Integrative Gestaltpädagogik - ECPv6.15.17.1//NONSGML v1.0//EN
CALSCALE:GREGORIAN
METHOD:PUBLISH
X-WR-CALNAME:Integrative Gestaltpädagogik
X-ORIGINAL-URL:https://igb-bayern.de
X-WR-CALDESC:Veranstaltungen für Integrative Gestaltpädagogik
REFRESH-INTERVAL;VALUE=DURATION:PT1H
X-Robots-Tag:noindex
X-PUBLISHED-TTL:PT1H
BEGIN:VTIMEZONE
TZID:Europe/Berlin
BEGIN:DAYLIGHT
TZOFFSETFROM:+0100
TZOFFSETTO:+0200
TZNAME:CEST
DTSTART:20250330T010000
END:DAYLIGHT
BEGIN:STANDARD
TZOFFSETFROM:+0200
TZOFFSETTO:+0100
TZNAME:CET
DTSTART:20251026T010000
END:STANDARD
BEGIN:DAYLIGHT
TZOFFSETFROM:+0100
TZOFFSETTO:+0200
TZNAME:CEST
DTSTART:20260329T010000
END:DAYLIGHT
BEGIN:STANDARD
TZOFFSETFROM:+0200
TZOFFSETTO:+0100
TZNAME:CET
DTSTART:20261025T010000
END:STANDARD
BEGIN:DAYLIGHT
TZOFFSETFROM:+0100
TZOFFSETTO:+0200
TZNAME:CEST
DTSTART:20270328T010000
END:DAYLIGHT
BEGIN:STANDARD
TZOFFSETFROM:+0200
TZOFFSETTO:+0100
TZNAME:CET
DTSTART:20271031T010000
END:STANDARD
END:VTIMEZONE
BEGIN:VEVENT
DTSTART;TZID=Europe/Berlin:20260101T180000
DTEND;TZID=Europe/Berlin:20260105T130000
DTSTAMP:20260425T015115
CREATED:20250928T154712Z
LAST-MODIFIED:20251010T074731Z
UID:2127-1767290400-1767618000@igb-bayern.de
SUMMARY:Gestaltkurs
DESCRIPTION:Gestaltkurs vom Do.\, 1.1.2026 bis Mo.\, 5.1.2026 \nDer Gestaltkurs „Integrative Gestaltpädagogik und heilende Seelsorge“ basiert auf der christlichen Gestaltpädagogik und integrativen Beratung nach Prof. Albert Höfer. \nEr geht vom Handlungsprinzip „learning by doing“ aus und greift persönlichkeitsfördernde Ansätze und Methoden verschiedener Richtungen der humanistischen Psychologie und der Reformpädagogik sowie biblische Themen auf. \nDas Kurskonzept: Arbeitsweisen\, Ziele\, Umfang: Der Kurs geht ist vom Prinzip der Selbsterfahrung und vom Handlungsprinzip „learning by doing“ geprägt. Er greift persönlichkeitsfördernde Ansätze und Methoden verschiedener Richtungen der humanistischen Psychologie und der Reformpädagogik sowie biblische Themen auf. \nDer Vorrang der Selbsterfahrung wird deutlich in den Lernschritten „erfahren – reflektieren – integrieren“.\nDas Angebot lädt ein zu lebendigem Lernen miteinander und voneinander.\nWir arbeiten prozessorientiert\, kreativ\, lösungsfokussiert\, systemisch und nutzen die Dynamik in der Gruppe.\n\nZiele des Kurses sind die Integration und Erweiterung verschiedener Kompetenzen:\n\n  der persönlichen Kompetenz: Vertiefung der Selbstwahrnehmung und Selbsterkenntnis und die daraus sich ergebende Möglichkeit der Veränderung hin zu einer heilen ganzheitlichen Existenz.\n\n\n  der fachlichen Kompetenz: Reflexion des eigenen integrativen pädagogischen Handelns und die sich daraus ergebenden didaktischen Konsequenzen für einen ganzheitlichen und persönlich bedeutsamen Bildungsprozess.\n\n\n  der sozialen Kompetenz: geschärfte Wahrnehmung und systemische Sicht von Prozessverläufen in sozialen Gebilden wie Familie\, Schule\, Gemeinde und gestärkte Handlungsfähigkeit.\n\n\n  der beratenden Kompetenz: respektvolle Wahrnehmung sowohl der individuellen Entwicklungschancen als auch der menschlichen Grenzen und Nöte sowie Einübung in eine ressourcen- und lösungsorientierte Hilfestellung und Begleitung.\n\n\n  der spirituellen Kompetenz: Klärung und Vertiefung des eigenen religiösen Standortes durch Erarbeitung biblischer Erzählungen und deren Bedeutsamkeit für den eigenen Lebensweg\, Austausch geistlicher Erfahrung\, Einübung in verschiedene Formen des Gebetes und der Meditation\n\n\nUmfang des Kurses \n\nDer Grundkurs umfasst insgesamt ca. 32 Arbeitstage (240 Stunden)\, die sich in acht Blöcken mit jeweils vier ganzen Tagen aufteilt.\nDie 8 Einheiten verteilen sich auf den Zeitraum von drei Kalenderjahren.\nAnsprechpartnerin Haus Werdenfels\n\nKatharina Libon\,\nBildungsreferentin Haus Werdenfels\nTel: 09404-950224\nE-Mail: libon@haus-werdenfels.de\n\n\nKursleitung:\nChristine Seufert\, Gestaltpädagogin und -Trainerin (IGB)\nNLP-Lehrtrainerin (DVNLP)\nDiplomtheologin\nPastoralreferentin\nTel: 0171-3282212\nE-Mail: christine.seufert@freenet.de\n 
URL:https://igb-bayern.de/kurs/gestaltkurs/
LOCATION:Haus Werdenfels\, Waldweg 15\, Nittendorf\, 93152\, Deutschland
CATEGORIES:Baustein A,Grundkurs,Seminare
ORGANIZER;CN="Haus Werdenfels":MAILTO:libon@Haus-Werdenfels.de
END:VEVENT
BEGIN:VEVENT
DTSTART;TZID=Europe/Berlin:20260109T180000
DTEND;TZID=Europe/Berlin:20260111T130000
DTSTAMP:20260425T015115
CREATED:20250930T141958Z
LAST-MODIFIED:20250930T142619Z
UID:2130-1767981600-1768136400@igb-bayern.de
SUMMARY:Von der Körpersprache zur Körperintelligenz
DESCRIPTION:Vom Vertrauen in die Bezieung zum eigenen Körper \nWer kennt ihn nicht\, den stillen inneren Dialog – doch was ist es\, was sich da mit sich selbst unterhält? Die Erfahrungen in Körperkünsten (Tanz\, Musik\, Malerei) und in handwerklichem Tun zeigen\, dass unser vernüftiges Selbst das leibliche Ich anspricht\, Befehle gibt\, lobt\, Fragen stellt… – doch oft verstehen sie einander nicht. An diesem Wochenende lüften wir das Geheimnis dieses inneren Dialogs! \nZur Klärung und Deutung hilft das Lesen von Körpersprache und die vertiefte Erfahrung der eigenen Körperintelligenz. Mit praktischen Übungen erwächst neues Vertrauen in die Klugheit und die Selbstheilungskräfte des Körpers. \nInhalte\n→ Grundlagen des nicht-gewussten Wissen des Leibes\n→ Die Zweieinigkeit von Verstand und leiblichem Selbst\n→ Erfahrungen von Körperintelligenz bei Musikern und Sportlern\n→ Von der Kraft des Gewahrseins\n→ Be water\, my friend! Praxis der sanften Bewegung \nAm Ende des Seminars\n→ ist Ihnen die Kraft Ihres eigenen Körper-lernens bewusst\n→ handeln Sie in Übereinstimmung mit Ihrer Körperintelligenz. \nKursleitung:\nAlexander Veit\nPantomime\, Regisseur\,\nKonzeptkünstler\nDozent für nonverbale Kommunikation Universität Passau \n  \n12 Std. anrechenbar als Vertiefungsstd. für Baustein A
URL:https://igb-bayern.de/kurs/von-der-koerpersprache-zur-koerperintelligenz/
LOCATION:Haus Werdenfels\, Waldweg 15\, Nittendorf\, 93152\, Deutschland
CATEGORIES:Baustein A,Baustein B,Grundkurs
END:VEVENT
BEGIN:VEVENT
DTSTART;TZID=Europe/Berlin:20260119T160000
DTEND;TZID=Europe/Berlin:20260123T130000
DTSTAMP:20260425T015115
CREATED:20251025T102931Z
LAST-MODIFIED:20251025T102931Z
UID:2261-1768838400-1769173200@igb-bayern.de
SUMMARY:Gestaltschnupperkurs bei Dresden-Dem Leben auf die Spur kommen
DESCRIPTION:Gestaltschnupperkurs bei Dresden-Dem Leben auf die Spur kommen \nTermine: 19.-23.01.26 oder 16.-20.02.26 oder 22.-25.06.26 \nDem Leben auf die Spur kommen: Was macht dich lebendig\, richtet dich auf\, stärkt dich? Dich beschenken lassen von neuer Lebensfreude und -energie und andere beschenken. Das ist eine der vielen Facetten von der Gestaltpädagogik. \,Erlösung muss erfahrbar sein“\, meint Prof. Dr. Albert Höfer\, Begründer der integrativen Gestaltpädagogik und heilenden Seelsorge. Aus diesem Grund beginnen die Kurse mit Selbsterfahrung\, bevor Reflektion und Lerninput folgen. Kosten: 216 € Kursgebühr zzgl. Übernachtungs- und Verpflegungskosten und 20 € Tagungspauschale. Diese Maßnahme wird mitfinanziert durch Steuermittel auf der Grundlage des von den Abgeordneten des Sächsischen Landtags beschlossenen Haushaltes. Die Veranstaltung findet in Kooperation mit der EEB Sachsen statt. \nDie Buchung erfolgt nur als Einheit. \nFolgende Kurse sind verbindlich: 12.-16.10.2026 Modul 2; 05.-08.04.2027 Modul 3; 19.-23.07.2027 Modul 4; 11.-15.10.2027 Modul 5; 24.-27.04.2028 Modul 6; 31.07.-04.08.2028 Modul 7; 23.-27.10.2028 Modul 8. Die verbindliche Anmeldung erfolgt nach dem Schnupperkurs. \nDas Trainerteam besteht aus Gerhard Gigler und Anett Sprinz
URL:https://igb-bayern.de/kurs/gestaltschnupperkurs-bei-dresden-dem-leben-auf-die-spur-kommen/
LOCATION:Theologisch Pädagogisches Institut\, Bahnhofstr. 9\, 01468 Moritzburg\, Sachsen
CATEGORIES:Baustein A,Grundkurs
ORGANIZER;CN="Theologisch-P%C3%A4dagogische Institut (TPI)":MAILTO:info.tpi-moritzburg@evlks.de
END:VEVENT
END:VCALENDAR