BEGIN:VCALENDAR
VERSION:2.0
PRODID:-//Integrative Gestaltpädagogik - ECPv6.15.17.1//NONSGML v1.0//EN
CALSCALE:GREGORIAN
METHOD:PUBLISH
X-WR-CALNAME:Integrative Gestaltpädagogik
X-ORIGINAL-URL:https://igb-bayern.de
X-WR-CALDESC:Veranstaltungen für Integrative Gestaltpädagogik
REFRESH-INTERVAL;VALUE=DURATION:PT1H
X-Robots-Tag:noindex
X-PUBLISHED-TTL:PT1H
BEGIN:VTIMEZONE
TZID:Europe/Berlin
BEGIN:DAYLIGHT
TZOFFSETFROM:+0100
TZOFFSETTO:+0200
TZNAME:CEST
DTSTART:20250330T010000
END:DAYLIGHT
BEGIN:STANDARD
TZOFFSETFROM:+0200
TZOFFSETTO:+0100
TZNAME:CET
DTSTART:20251026T010000
END:STANDARD
BEGIN:DAYLIGHT
TZOFFSETFROM:+0100
TZOFFSETTO:+0200
TZNAME:CEST
DTSTART:20260329T010000
END:DAYLIGHT
BEGIN:STANDARD
TZOFFSETFROM:+0200
TZOFFSETTO:+0100
TZNAME:CET
DTSTART:20261025T010000
END:STANDARD
BEGIN:DAYLIGHT
TZOFFSETFROM:+0100
TZOFFSETTO:+0200
TZNAME:CEST
DTSTART:20270328T010000
END:DAYLIGHT
BEGIN:STANDARD
TZOFFSETFROM:+0200
TZOFFSETTO:+0100
TZNAME:CET
DTSTART:20271031T010000
END:STANDARD
END:VTIMEZONE
BEGIN:VEVENT
DTSTART;TZID=Europe/Berlin:20260510T180000
DTEND;TZID=Europe/Berlin:20260515T130000
DTSTAMP:20260424T223822
CREATED:20260315T173940Z
LAST-MODIFIED:20260324T194054Z
UID:2526-1778436000-1778850000@igb-bayern.de
SUMMARY:Bibliodramaexerzitien
DESCRIPTION:Bibliodrama ist eine Methode der Bibelarbeit\, die Exerzitien zum Abenteuer macht\,\nindem sie die Seele in ungeahnter Weise öffnet und in Bewegung bringt. \nSo. 10. Mai 2026 *18.00 Uhr – Fr. 15. Mai 2026 *13.00 Uhr \nBibliodrama ist ein Spiel\nmit Spielplan\,\nSpielregeln und\neiner Spielleiterin.\nDie Spieler*innen finden ihren Platz und ihre Rolle in einer biblischen Geschichte.\nDie eigenen\nLebensthemen\,\nGlaubenserfahrungen\,\nSehnsüchte\nund Stimmungen verbinden sich mit biblischen Gestalten.\nDie alten Bibeltexte beginnen zu sprechen. Das eigene Leben wird heller und reicher.\nIm Vergleich zu reinen Einzelexerzitien\nspielt in Bibliodrama-Exerzitien die Gruppe der Exerzitienteilnehmer*innen eine größere Rolle.\nÜber die Zeit des Spielens kommen sie in Kontakt miteinander und inspirieren sich gegenseitig. \nWeitere Elemente\npersönliche und gemeinsame Gebetszeiten\nEinzelgespräche.\ndie Teilnahme an der Eucharistiefeier\nBis auf die Spielzeiten verläuft der Kurs im Schweigen. Bibliodrama erfordert keine Vorkenntnisse. \nKursgebühr:  210\,00 € – Pension: im EZ mit Du/WC 370\,00 € \nAnrechenbar für IGB-Mitglieder mit 15 Vertiefungsstunden \nWaldweg 15 · 93152 Nittendorf\nTelefon 09404 9502-20\nanmeldung@haus-werdenfels.de\nwww.haus-werdenfels.de \nBegleiterinnen:\nGabriele Landler\,\nTheologin\nBibliodramaleiterin\nExerzitienbegleiterin \nSr. Magdalena Morgenstern\nExerzitienbegleiterin\nLogotherapeutin\nGestaltpädagogin\nHaus Werdenfels \n 
URL:https://igb-bayern.de/kurs/bibliodramaexerzitien/
LOCATION:Haus Werdenfels\, Waldweg 15\, Nittendorf\, 93152\, Deutschland
CATEGORIES:Baustein A,Baustein B,Grundkurs,Seminare
ORGANIZER;CN="Haus Werdenfels":MAILTO:libon@Haus-Werdenfels.de
END:VEVENT
BEGIN:VEVENT
DTSTART;TZID=Europe/Berlin:20260515T180000
DTEND;TZID=Europe/Berlin:20260517T130000
DTSTAMP:20260424T223822
CREATED:20251111T082828Z
LAST-MODIFIED:20251111T082828Z
UID:2318-1778868000-1779022800@igb-bayern.de
SUMMARY:Frühlingserwachen
DESCRIPTION: Frühlingserwachen\, – SoulCollage® – \nFreitag 15.05.2026 * 18.00 Uhr bis Sonntag 17.05.2026 * 13.00 Uhr \nDer Frühling ist da und die Natur erwacht. Was will in uns aufbrechen oder sanft geweckt werden? Mit der kreativen Methode SoulCollage® gestalten wir Seelenbilder in Form von Karten\, die uns durch das Wochenende und darüber hinaus begleiten.  Begegnung und Austausch bereichern die Tage. Meditative Tänze umrahmen die Einheiten. Freuen Sie sich auf eine Zeit für sich und lassen Sie sich überraschen von dem was Sie entdecken werden. Das Material wird von der Kursleiterin zur Verfügung gestellt. \nKursgebühr: 100\,00 EUR plus Hauskosten \nKursleitung: Gertraud Baldauf\, Tanz- und Ausdruckstherapeutin\, Gestaltberaterin IGB\, NLP-Trainerin (DVNLP)\, Kursleiterin für LEA-Erzählfiguren\, SoulCollage®-Facilitatorin \nHaus Johannisthal\, Johannisthal 1\, 92670 Windischeschenbach\nTelefon: +49 (0)96 81 – 4 00 15-0\nE-Mail: kontakt(at)haus-johannisthal.de \nhttps://www.haus-johannisthal.de
URL:https://igb-bayern.de/kurs/fruehlingserwachen/
LOCATION:Haus Johannisthal\, Johannisthal 1\, 92670 Windischeschenbach\, Johannisthal 1\, Windischeschenbach\, 92670\, Deutschland
CATEGORIES:Seminare
ORGANIZER;CN="Haus Johannisthal":MAILTO:kontakt@haus-johannisthal.de
END:VEVENT
END:VCALENDAR