BEGIN:VCALENDAR
VERSION:2.0
PRODID:-//Integrative Gestaltpädagogik - ECPv6.15.17.1//NONSGML v1.0//EN
CALSCALE:GREGORIAN
METHOD:PUBLISH
X-ORIGINAL-URL:https://igb-bayern.de
X-WR-CALDESC:Veranstaltungen für Integrative Gestaltpädagogik
REFRESH-INTERVAL;VALUE=DURATION:PT1H
X-Robots-Tag:noindex
X-PUBLISHED-TTL:PT1H
BEGIN:VTIMEZONE
TZID:Europe/Berlin
BEGIN:DAYLIGHT
TZOFFSETFROM:+0100
TZOFFSETTO:+0200
TZNAME:CEST
DTSTART:20250330T010000
END:DAYLIGHT
BEGIN:STANDARD
TZOFFSETFROM:+0200
TZOFFSETTO:+0100
TZNAME:CET
DTSTART:20251026T010000
END:STANDARD
BEGIN:DAYLIGHT
TZOFFSETFROM:+0100
TZOFFSETTO:+0200
TZNAME:CEST
DTSTART:20260329T010000
END:DAYLIGHT
BEGIN:STANDARD
TZOFFSETFROM:+0200
TZOFFSETTO:+0100
TZNAME:CET
DTSTART:20261025T010000
END:STANDARD
BEGIN:DAYLIGHT
TZOFFSETFROM:+0100
TZOFFSETTO:+0200
TZNAME:CEST
DTSTART:20270328T010000
END:DAYLIGHT
BEGIN:STANDARD
TZOFFSETFROM:+0200
TZOFFSETTO:+0100
TZNAME:CET
DTSTART:20271031T010000
END:STANDARD
END:VTIMEZONE
BEGIN:VEVENT
DTSTART;TZID=Europe/Berlin:20260906T150000
DTEND;TZID=Europe/Berlin:20260909T130000
DTSTAMP:20260425T051437
CREATED:20251025T093537Z
LAST-MODIFIED:20260324T101836Z
UID:2257-1788706800-1788958800@igb-bayern.de
SUMMARY:Biblische WASSER… tief\, wild und lebendig\, wie mein Leben - stille Kunst- und Kreativ-Tage
DESCRIPTION:Biblische WASSER… tief\, wild und lebendig\, wie mein Leben – stille Kunst- und Kreativ-Tage \nBild: Hans-Peter Eggerl Seminar-Nr.: 20601 \nTermin: 06.09.2026\, 18:00 Uhr 09.09.2026\, 13:00 Uhr Anmeldefrist: 04.09.2026\, 20:00 Uhr \nBeschreibung: Die Wasser der Bibel sind lebendig und vielfältig wie das Leben selbst: erfrischend und lebensspendend wie ein Bach (Jer 17\,8) oder aber beängstigend tief wie die Urflut oder auf Gott verweisend wie das stürmische Meer oder jenseitstransparent wie das Wasser der Taufe… oder … oder … oder. \nWasser als Metapher und Erlebnisfeld durchzieht thematisch die Tage der Exerzitien-Woche als Roter Faden. Ausgewählte biblische Wasser-Geschichten aber auch Kunstbilder zu Wasser bzw. den einzelnen Wasserperikopen begleiten die Exerzitienzeit und eröffnen jeweils attraktiv und erfahrungsstark persönliche Themen der Teilnehmenden. \nDie Tage sind gut und klar strukturiert und bieten Raum für Einkehr und Zusichkommen. Geistlich-spirituelle und liturgische Einheiten wechseln sich ab mit kunstvollen inhaltlichen Impulsen sowie mit bildmeditativen Phasen und natürlich auch aktiven künstlerisch-kreativen Ausdrucksformen (in Acrylfarben). \nIm besonderen Fokus steht die inhaltliche Auseinandersetzung auf dem Hintergrund des eigenen Lebens und der eigenen Person. Der Nachmittag ist jeweils für das kreative Gestalten reserviert\, an dem das in Farbe und Form zum Ausdruck kommen soll\, was sich innerlich ereignet hat. Am Abend wird der Tag in einem Gottesdienst oder einer Andacht zum Abschluss gebracht. \nDie Tage werden nur phasenweise im Schweigen verbracht. \nDie Materialkosten (z.B. Farben\, Leinwände\, Malkartons\, … sowie Leihmaterial: Pinsel\, Spachteln\, Arbeitsplatten\, Abdeckplanen etc.) von 40\,-€ sind direkt im Kurs beim Referenten zu bezahlen. \nKursgebühr 220\,00 € Materialkosten 40\,00 € Pension 223\,00 € EZ mit Du/WC \nLeitung: \nHerr Günter Lesinski\, Kirchenrektor Haus Werdenfels\, Exerzitienbegleiter (GCL)\, Gestalttrainer (IGB) \n\n  \nHerr Dr. Hans-Peter Eggerl\, Bildender Künstler\, Doktor der Theologie\, Männerseelsorge im Bistum Passau \nMitglieder im IGB: 20 Std. anrechenbar entweder für Baustein B des IGB-Curriculums („Gestaltpädagogische Bibelarbeit und spirituelle Begleitung“) oder alternativ: als Vertiefungsstunden für Baustein A oder B \n 
URL:https://igb-bayern.de/kurs/biblische-wasser-tief-wild-und-lebendig-wie-mein-leben-stille-kunst-und-kreativ-tage/
LOCATION:Haus Werdenfels\, Waldweg 15\, Nittendorf\, 93152\, Deutschland
CATEGORIES:Baustein B,Fortbildungskurs,Seminare
ORGANIZER;CN="Haus Werdenfels":MAILTO:libon@Haus-Werdenfels.de
END:VEVENT
END:VCALENDAR