BEGIN:VCALENDAR
VERSION:2.0
PRODID:-//Integrative Gestaltpädagogik - ECPv6.15.17.1//NONSGML v1.0//EN
CALSCALE:GREGORIAN
METHOD:PUBLISH
X-ORIGINAL-URL:https://igb-bayern.de
X-WR-CALDESC:Veranstaltungen für Integrative Gestaltpädagogik
REFRESH-INTERVAL;VALUE=DURATION:PT1H
X-Robots-Tag:noindex
X-PUBLISHED-TTL:PT1H
BEGIN:VTIMEZONE
TZID:Europe/Berlin
BEGIN:DAYLIGHT
TZOFFSETFROM:+0100
TZOFFSETTO:+0200
TZNAME:CEST
DTSTART:20230326T010000
END:DAYLIGHT
BEGIN:STANDARD
TZOFFSETFROM:+0200
TZOFFSETTO:+0100
TZNAME:CET
DTSTART:20231029T010000
END:STANDARD
BEGIN:DAYLIGHT
TZOFFSETFROM:+0100
TZOFFSETTO:+0200
TZNAME:CEST
DTSTART:20240331T010000
END:DAYLIGHT
BEGIN:STANDARD
TZOFFSETFROM:+0200
TZOFFSETTO:+0100
TZNAME:CET
DTSTART:20241027T010000
END:STANDARD
BEGIN:DAYLIGHT
TZOFFSETFROM:+0100
TZOFFSETTO:+0200
TZNAME:CEST
DTSTART:20250330T010000
END:DAYLIGHT
BEGIN:STANDARD
TZOFFSETFROM:+0200
TZOFFSETTO:+0100
TZNAME:CET
DTSTART:20251026T010000
END:STANDARD
END:VTIMEZONE
BEGIN:VEVENT
DTSTART;TZID=Europe/Berlin:20240215T153000
DTEND;TZID=Europe/Berlin:20240218T153000
DTSTAMP:20260422T184609
CREATED:20231020T101541Z
LAST-MODIFIED:20231025T160946Z
UID:723-1708011000-1708270200@igb-bayern.de
SUMMARY:Was spricht mein Körper und warum weiß ich nichts davon?
DESCRIPTION:Was spricht mein Körper und warum weiß ich nichts davon?\n\n\nKontakt:\nHaus Werdenfels\, Waldweg 15 93152 Nittendorf Tel: 09404/9502-0 Mail: Anmeldung@Haus-Werdenfels.de\nKursinhalte: Was spricht mein Körper und warum weiß ich nichts davon? \n\nGestaltpädagogisches Seminar \nDonnerstag\, 15. Februar 2024 * 18.00 Uhr bis Sonntag\, 18. Februar 2024 * 13.00 Uhr \n„Der menschliche Körper ist das beste Bild der menschlichen Seele.“ \n(L.Wittgenstein) \nDie Sprache des Körpers ist eine Sprache des seelischen Zustands\, eingebettet ist darin unser bewusster Verstand. Die stille Sprache birgt Missverständnisse und Rätsel. Unseren nonverbalen Ausdruck zu interpretieren\, bedarf der Übung. \nAlexander Veit gibt einen plastischen Einblick in diese Welt des Averbalen und der Wirkungen\, zeigt Wege auf wie fördernd es sein kann\, unsere Botschaften bewusst zu erkennen. Das Wissen um die Körpersprache bringt mehr Leichtigkeit in das große Phänomen der Kommunikation. \nDie Themen behandeln die Bereiche Haltung und Geste\, Mimik\, Status- und Raumverhalten\, Körperkontakt und Bewegung. Wege der Veränderung und Weiterentwicklung der Körperbewusstheit runden das Seminar ab. \nTeilnahmevorraussetzung: Bringen Sie Ihren Körper mit. \nReferent: \nAlexander Veit \nPantomime\, Regisseur und Konzeptkünstler\, Dozent für nonverbale Kommunikation Lehrauftrag an der Universität Passau\, Themen: Körpersprache\, Auftritt\, Systeme und Körper. \nKursgebühr: 170\, — € Pension: 240\, — € im EZ mit Du/WC \nWaldweg 15 · 93152 Nittendorf \nTelefon 09404 9502-0 Telefax 09404 9502-950 \nanmeldung@haus-werdenfels.de \nwww.haus-werdenfels.de \n\nOrt: Haus Werdenfels\, Waldweg 15\, D-93152 Nittendorf \nWeitere Informationen:\nAnrechenbar für Mitglieder des IGB mit 15 Vertiefungsstunden\, die als Nachweis der Reflexion gestaltpädagogischer Praxis gelten.
URL:https://igb-bayern.de/kurs/was-spricht-mein-koerper-und-warum-weiss-ich-nichts-davon/
LOCATION:Haus Werdenfels\, Waldweg 15\, Nittendorf\, 93152\, Deutschland
CATEGORIES:Seminare
ORGANIZER;CN="Haus Werdenfels":MAILTO:libon@Haus-Werdenfels.de
END:VEVENT
END:VCALENDAR